Workbook
Name _ad2: #REF!
Name _ap2: #REF!
Name _bi2: #REF!
Name _bk2: #REF!
Name _d2: #REF!
Name ad: #REF!
Name ad: #REF!
Name ad: #REF!
Name ad: #REF!
Name Annual_interest_rate: #REF!
Name ap: #REF!
Name ap: #REF!
Name ap: #REF!
Name ap: #REF!
Name B: #REF!
Name bi: #REF!
Name bi: #REF!
Name bi: #REF!
Name bi: #REF!
Name bk: #REF!
Name bk: #REF!
Name bk: #REF!
Name bk: #REF!
Name C_: #REF!
Name C_: #REF!
Name C_: #REF!
Name C_: #REF!
Name d: #REF!
Name d: #REF!
Name d: #REF!
Name d: #REF!
Name dm: #REF!
Name dt: #REF!
Name eis: #REF!
Name eis: #REF!
Name eis: #REF!
Name eis: #REF!
Name ene: #REF!
Name ens: #REF!
Name epa: #REF!
Name eps: #REF!
Name First: #REF!
Name First_payment_due: #REF!
Name for: #REF!
Name giannhs: #REF!
Name giannhs: #REF!
Name giannhs: #REF!
Name giannhs: #REF!
Name il: #REF!
Name il: #REF!
Name il: #REF!
Name il: #REF!
Name isf: #REF!
Name isk: #REF!
Name J: #REF!
Name J: #REF!
Name J: #REF!
Name J: #REF!
Name K: #REF!
Name K: #REF!

Sheet ΟΔΗΓΙΕΣ
B2: Πίνακες Προβλέψεων Βιωσιμότητας και Απολογιστικών Στοιχείων Φορέα για Επενδυτικά Σχέδια στο καθεστώς ΠΕΡΙΟΧΩΝ ΕΙΔΙΚΗΣ ΕΝΙΣΧΥΣΗΣ (μόνο για Τουρισμό)
A3: 1 | B3: Το αρχείο υποβάλλεται υποχρεωτικά με συναρτήσεις και όχι με τιμές διαφορετικά δεν γίνεται δεκτό.
A4: 2 | B4: Το παρόν αρχείο αποτελεί ένα γενικό υπόδειγμα για επενδυτικά σχέδια ξενοδοχειακών μονάδων και δεν μπορεί να καλύπτει όλες τις πιθανές περιπτώσεις επενδυτικών σχεδίων. Ο φορέας θα πρέπει να το αναπροσαρμόζει ανάλογα.
A5: 3 | B5: Στα πεδία χρωματισμένα με γκρι, οι τιμές υπολογίζονται αυτόματα με formules, ενώ τα υπόλοιπα πεδία προβλέπεται να συμπληρωθούν από το φορέα.
A6: 4 | B6: Στα φύλλα του "Κόστους" και του "Χρηματοδοτικού σχήματος" θα πρέπει να μεταφέρονται αυτούσια τα στοιχεία όπως έχουν υποβληθεί στο Πληροφοριακό Σύστημα στις αντίστοιχες καρτέλες.
A7: 5 | B7: Στις προβλέψεις δεκαετίας ως "1ο έτος" νοείται το πρώτο έτος λειτουργίας της επιχείρησης (φορέα της επένδυσης) μετά την ολοκλήρωση του επενδυτικού σχεδίου.
A8: 6 | B8: Στα φύλλα που αφορούν "ΠΛΗΡΟΤΗΤΑ - ΕΣΟΔΑ ΜΟΝΑΔΑΣ" και "ΚΟΣΤΟΣ ΜΟΝΑΔΑΣ" ακολουθείται η εξής λογική: Καταγράφονται οι πρόβλέψεις των μεγέθων της μονάδας που συνδέεται με το επενδυτικό σχέδιο (και όχι του φορέα της επένδυσης) σε βάθος 10ετίας μετά την υλοποίηση του επενδυτικού σχεδίου. Τα έσοδα και κόστη για το σύνολο του φορέα της επένδυσης συμπληρώνονται στο φύλλο "ΕΣΟΔΑ - ΚΟΣΤΗ ΦΟΡΕΑ".
A9: 7 | B9: Στην καρτέλα του Μακροπρόθεσμου Δανείου για το επενδυτικό σχέδιο, ο φορέας επιλέγει μεταξύ 2 τύπων δανείου (είτε με σταθερή τοκοχρεολυτική δόση, είτε με σταθερό χρεολύσιο).
A10: 8 | B10: Τα απολογιστικά στοιχεία (λογαριασμός εκμετάλλευσης) του φορέα παρουσιάζονται για τα 3 τελευταία έτη πριν την υποβολή της αίτησης.
A11: 9 | B11: Τα απολογιστικά στοιχεία πληρότητας - εσόδων - κόστους συμπληρώνονται μόνο για το τελευταίο έτος πριν την υποβολή της αίτησης και από υφιστάμενους φορείς των οποίων οι μονάδες που συνδέονται με το επενδυτικό σχέδιο είχαν υφιστάμενη δραστηριότητα. Τα στοιχεία αυτά αφορούν τη μονάδα και όχι το σύνολο του φορέα.

Sheet ΚΟΣΤΟΣ
A1: (i) Τα στοιχεία που θα εισαχθούν στα παρακάτω πεδία θα πρέπει να είναι ταυτόσημα με αυτά που έχουν εισαχθεί και υποβληθεί στο Πληροφοριακό Σύστημα Αναπτυξιακών Νόμων (ΠΣ-Αν) στο Βήμα ΙΙΙ "Κόστος - Χρηματοδοτικό Σχήμα". | E1: (ii) Τα στοιχεία που θα εισαχθούν στα παρακάτω πεδία συμπληρώνονται μόνο σε περιπτώσεις που το επενδυτικό σχέδιο αφορά εκσυγχρονισμό ολοκληρωμένης μορφής είτε ξενοδοχειακής μονάδας είτε τουριστικής οργανωμένης κατασκήνωσης (camping) ανάλογα με την αντίστοιχη ΚΥΑ εκσυγχρονισμού .
A3: ΑΝΑΛΥΣΗ ΠΡΟΫΠΟΛΟΓΙΣΜΟΥ ΤΟΥ ΕΠΕΝΔΥΤΙΚΟΥ ΣΧΕΔΙΟΥ | E3: Κατηγορία 1η: | G3: Κατηγορία 2η: | I3: Κατηγορία 3η: | K3: Κατηγορία 4η: | M3: Κατηγορία 5η: | O3: Κατηγορία 6η: | Q3: Κατηγορία 7η:
A5: ΕΠΙΛΕΞΙΜΕΣ ΔΑΠΑΝΕΣ ΠΕΡΙΦΕΡΕΙΑΚΩΝ ΕΝΙΣΧΥΣΕΩΝ (άρθρο 6 Ν.4887/2022) | C5: Επιλέξιμο Κόστος | D5: Ενισχυόμενο Κόστος | E5: Επιλέξιμο Κόστος | F5: Ενισχυόμενο Κόστος | G5: Επιλέξιμο Κόστος | H5: Ενισχυόμενο Κόστος | I5: Επιλέξιμο Κόστος | J5: Ενισχυόμενο Κόστος | K5: Επιλέξιμο Κόστος | L5: Ενισχυόμενο Κόστος | M5: Επιλέξιμο Κόστος | N5: Ενισχυόμενο Κόστος | O5: Επιλέξιμο Κόστος | P5: Ενισχυόμενο Κόστος | Q5: Επιλέξιμο Κόστος | R5: Ενισχυόμενο Κόστος
A6: ΟΜΑΔΑ Α ΠΕΡΙΦΕΡΕΙΑΚΕΣ ΕΠΕΝΔΥΤΙΚΕΣ ΕΝΙΣΧΥΣΕΙΣ (άρθρο 14 ΓΑΚ 651/2014)
A7: ΚΤΗΡΙΑΚΕΣ ΕΓΚΑΤΑΣΤΑΣΕΙΣ | B7: Συμβατική | C7: 0 | D7: 0
A8: ΕΡΓΑ ΔΙΑΜΟΡΦΩΣΗΣ ΠΕΡΙΒΑΛΛΟΝΤΟΣ ΧΩΡΟΥ | B8: Συμβατική | C8: 0 | D8: 0
A9: ΜΗΧΑΝΟΛΟΓΙΚΟΣ ΕΞΟΠΛΙΣΜΟΣ - ΤΕΧΝΙΚΕΣ (ΕΙΔΙΚΕΣ) ΕΓΚΑΤΑΣΤΑΣΕΙΣ | B9: Συμβατική | C9: 0 | D9: 0
B10: Χρηματ. Μίσθωση | C10: 0 | D10: 0
B11: Σύνολο | C11: =C9+C10 -> 0 | D11: =D9+D10 -> 0 | E11: =E9+E10 -> 0 | F11: =F9+F10 -> 0 | G11: =G9+G10 -> 0 | H11: =H9+H10 -> 0 | I11: =I9+I10 -> 0 | J11: =J9+J10 -> 0 | ... R11: =R9+R10 -> 0
A13: ΛΟΙΠΟΣ ΕΞΟΠΛΙΣΜΟΣ | B13: Συμβατική | C13: 0 | D13: 0
B14: Χρηματ. Μίσθωση | C14: 0 | D14: 0
B15: Σύνολο | C15: =C13+C14 -> 0 | D15: =D13+D14 -> 0 | E15: =E13+E14 -> 0 | F15: =F13+F14 -> 0 | G15: =G13+G14 -> 0 | H15: =H13+H14 -> 0 | I15: =I13+I14 -> 0 | J15: =J13+J14 -> 0 | ... R15: =R13+R14 -> 0
A16: ΜΕΤΑΦΟΡΙΚΑ ΜΕΣΑ | B16: Συμβατική | C16: 0 | D16: 0
A17: ΑΓΟΡΑ ΠΑΓΙΩΝ ΣΤΟΙΧΕΙΩΝ ΕΝΕΡΓΗΤΙΚΟΥ ΜΟΝΑΔΑΣ ΠΟΥ ΕΧΕΙ ΠΑΥΣΕΙ ΤΗ ΛΕΙΤΟΥΡΓΙΑ ΤΗΣ | B17: Συμβατική | C17: 0 | D17: 0
A18: ΑΫΛΑ ΣΤΟΙΧΕΙΑ ΕΝΕΡΓΗΤΙΚΟΥ | B18: Συμβατική | C18: 0 | D18: 0
A19: Υποσύνολο κόστους δαπανών ΟΜΑΔΑΣ Α (ενσώματα & άϋλα) | B19: Συμβατική | C19: =C18+C17+C13+C16+C12+C9+C8+C7 -> 0 | D19: =D18+D17+D13+D16+D12+D9+D8+D7 -> 0 | E19: =E18+E17+E13+E16+E12+E9+E8+E7 -> 0 | F19: =F18+F17+F13+F16+F12+F9+F8+F7 -> 0 | G19: =G18+G17+G13+G16+G12+G9+G8+G7 -> 0 | H19: =H18+H17+H13+H16+H12+H9+H8+H7 -> 0 | I19: =I18+I17+I13+I16+I12+I9+I8+I7 -> 0 | J19: =J18+J17+J13+J16+J12+J9+J8+J7 -> 0 | ... R19: =R18+R17+R13+R16+R12+R9+R8+R7 -> 0
B20: Χρηματ. Μίσθωση | C20: =C14+C10 -> 0 | D20: =D14+D10 -> 0 | E20: =E14+E10 -> 0 | F20: =F14+F10 -> 0 | G20: =G14+G10 -> 0 | H20: =H14+H10 -> 0 | I20: =I14+I10 -> 0 | J20: =J14+J10 -> 0 | ... R20: =R14+R10 -> 0
B21: Σύνολο | C21: =C20+C19 -> 0 | D21: =D20+D19 -> 0 | E21: =E20+E19 -> 0 | F21: =F20+F19 -> 0 | G21: =G20+G19 -> 0 | H21: =H20+H19 -> 0 | I21: =I20+I19 -> 0 | J21: =J20+J19 -> 0 | ... R21: =R20+R19 -> 0
A22: ΜΙΣΘΟΛΟΓΙΚΟ ΚΟΣΤΟΣ ΝΕΩΝ ΘΕΣΕΩΝ ΕΡΓΑΣΙΑΣ (*) | B22: Σύνολο
A23: ΓΕΝΙΚΟ ΣΥΝΟΛΟ ΚΟΣΤΟΥΣ ΔΑΠΑΝΩΝ ΟΜΑΔΑΣ Α | B23: Σύνολο | C23: =C22+C21 -> 0 | D23: =D22+D21 -> 0
A25: ΕΠΙΛΕΞΙΜΕΣ ΔΑΠΑΝΕΣ ΕΚΤΟΣ ΠΕΡΙΦΕΡΕΙΑΚΩΝ ΕΝΙΣΧΥΣΕΩΝ (άρθρο 7 Ν.4887/2022) | C25: Επιλέξιμο Κόστος | D25: Ενισχυόμενο Κόστος
A26: ΟΜΑΔΑ Β.
A27: ΔΑΠΑΝΕΣ ΓΙΑ ΣΥΜΒΟΥΛΕΥΤΙΚΕΣ ΥΠΗΡΕΣΙΕΣ (μόνο για νέες ΜΜΕ) | B27: Συμβατική | C27: 0 | D27: 0
A28: ΔΑΠΑΝΕΣ ΓΙΑ ΜΕΤΡΑ ΕΝΕΡΓΕΙΑΚΗΣ ΑΠΟΔΟΣΗΣ (ΕΚΤΟΣ ΑΠΟ ΜΕΤΡΑ ΕΝΕΡΓΕΙΑΚΗΣ ΑΠΟΔΟΣΗΣ ΣΕ ΚΤΙΡΙΑ) | B28: Συμβατική | C28: 0 | D28: 0
A29: ΔΑΠΑΝΕΣ ΓΙΑ ΤΗΝ ΕΞΥΓΙΑΝΣΗ ΠΕΡΙΒΑΛΛΟΝΤΙΚΗΣ ΖΗΜΙΑΣ, ΤΗΝ ΑΠΟΚΑΤΑΣΤΑΣΗ ΦΥΣΙΚΩΝ ΟΙΚΟΤΟΠΩΝ ΚΑΙ ΟΙΚΟΣΥΣΤΗΜΑΤΩΝ | B29: Συμβατική | C29: 0 | D29: 0
A30: ΔΑΠΑΝΕΣ ΓΙΑ ΤΗΝ ΑΠΟΔΟΤΙΚΗ ΧΡΗΣΗ ΤΩΝ ΠΟΡΩΝ ΚΑΙ ΓΙΑ ΤΗ ΣΤΗΡΙΞΗ ΤΗΣ ΜΕΤΑΒΑΣΗΣ ΠΡΟΣ ΜΙΑ ΚΥΚΛΙΚΗ ΟΙΚΟΝΟΜΙΑ | B30: Συμβατική | C30: 0 | D30: 0
A31: ΔΑΠΑΝΕΣ ΓΙΑ ΕΠΑΓΓΕΛΜΑΤΙΚΗ ΚΑΤΑΡΤΙΣΗ | B31: Συμβατική | C31: 0 | D31: 0
A32: ΔΑΠΑΝΕΣ ΓΙΑ ΚΑΙΝΟΤΟΜΙΑ ΣΤΙΣ ΜΜΕ | B32: Συμβατική | C32: 0 | D32: 0
A33: ΔΑΠΑΝΕΣ ΓΙΑ ΔΙΑΔΙΚΑΣΤΙΚΗ ΚΑΙ ΟΡΓΑΝΩΤΙΚΗ ΚΑΙΝΟΤΟΜΙΑ ΓΙΑ ΜΜΕ ΚΑΙ ΜΕΓΑΛΕΣ ΕΠΙΧΕΙΡΗΣΕΙΣ | B33: Συμβατική | C33: 0 | D33: 0
A34: ΔΑΠΑΝΕΣ ΓΙΑ ΤΗ ΣΥΜΠΑΡΑΓΩΓΗ ΕΝΕΡΓΕΙΑΣ ΥΨΗΛΗΣ ΑΠΟΔΟΣΗΣ ΑΠΟ Α.Π.Ε. ΚΑΙ ΔΑΠΑΝΕΣ ΓΙΑ ΠΑΡΑΓΩΓΗ ΕΝΕΡΓΕΙΑΣ ΑΠΟ ΑΝΑΝΕΩΣΙΜΕΣ ΠΗΓΕΣ | B34: Συμβατική | C34: 0 | D34: 0
A35: ΣΥΝΟΛΟ ΟΜΑΔΑΣ Β | C35: =SUM(C27:C34) -> 0 | D35: =SUM(D27:D34) -> 0 | E35: =SUM(E27:E34) -> 0 | F35: =SUM(F27:F34) -> 0 | G35: =SUM(G27:G34) -> 0 | H35: =SUM(H27:H34) -> 0 | I35: =SUM(I27:I34) -> 0 | J35: =SUM(J27:J34) -> 0 | ... R35: =SUM(R27:R34) -> 0
A36: ΣΥΝΟΛΟ ΚΟΣΤΟΥΣ ΕΠΕΝΔΥΣΗΣ (Α + ΒΓ) | B36: Συμβατική | C36: =C19+C35 -> 0 | D36: =D19+D35 -> 0 | E36: =E19+E35 -> 0 | F36: =F19+F35 -> 0 | G36: =G19+G35 -> 0 | H36: =H19+H35 -> 0 | I36: =I19+I35 -> 0 | J36: =J19+J35 -> 0 | ... R36: =R19+R35 -> 0
B37: Χρηματ. Μίσθωση | C37: =+C20 -> 0 | D37: =+D20 -> 0 | E37: =+E20 -> 0 | F37: =+F20 -> 0 | G37: =+G20 -> 0 | H37: =+H20 -> 0 | I37: =+I20 -> 0 | J37: =+J20 -> 0 | ... R37: =+R20 -> 0
B38: Σύνολο | C38: =C36+C37 -> 0 | D38: =D36+D37 -> 0 | E38: =E36+E37 -> 0 | F38: =F36+F37 -> 0 | G38: =G36+G37 -> 0 | H38: =H36+H37 -> 0 | I38: =I36+I37 -> 0 | J38: =J36+J37 -> 0 | ... R38: =R36+R37 -> 0
A40: (*) Εφόσον τεθούν δαπάνες μισθολογικού κόστους, οι λοιπές δαπάνες της Ομάδας Α δεν ενισχύονται (άρ. 8, παρ. 1 περ. γ προκήρυξης)

Sheet ΠΛΗΡΟΤΗΤΕΣ_ΕΣΟΔΑ_ΜΟΝΑΔΑΣ
A1: ΜΕΣΗ ΜΗΝΙΑΙΑ ΠΛΗΡΟΤΗΤΑ | M1: ΤΙΜΗ / ΚΛΙΝΗ / ΔΙΑΝΥΚΤΕΡΕΥΣΗ ( ΣΕ €)
A2: ΜΗΝΑΣ | B2: ΕΤΗ ΛΕΙΤΟΥΡΓΙΑΣ ΜΕΤΑ ΤΗΝ ΟΛΟΚΛΗΡΩΣΗ ΤΟΥ ΕΠΕΝΔΥΤΙΚΟΥ ΣΧΕΔΙΟΥ | N2: ΔΙΚΛΙΝΑ | O2: ΤΡΙΚΛΙΝΑ | P2: ΣΟΥΙΤΕΣ | Q2: ΣΥΝΟΛΟ ΚΛΙΝΩΝ | T2: ΣΥΝΟΛΙΚΕΣ ΔΙΑΝΥΚΤΕΡΕΥΣΕΙΣ
B3: 1 | C3: 2 | D3: 3 | E3: 4 | F3: 5 | G3: 6 | H3: 7 | I3: 8 | J3: 9 | K3: 10 | M3: ΑΡΙΘΜΟΣ ΚΛΙΝΩΝ | Q3: =SUM(N3:P3) -> 0 | T3: 1 | U3: 2 | V3: 3 | W3: 4 | X3: 5 | Y3: 6 | Z3: 7 | AA3: 8 | AB3: 9 | AC3: 10
A4: ΙΑΝΟΥΑΡΙΟΣ | M4: ΙΑΝΟΥΑΡΙΟΣ | S4: ΙΑΝΟΥΑΡΙΟΣ | T4: =B4*30*$Q$3 -> 0 | U4: =C4*30*$Q$3 -> 0 | V4: =D4*30*$Q$3 -> 0 | W4: =E4*30*$Q$3 -> 0 | X4: =F4*30*$Q$3 -> 0 | Y4: =G4*30*$Q$3 -> 0 | Z4: =H4*30*$Q$3 -> 0 | AA4: =I4*30*$Q$3 -> 0 | ... AC4: =K4*30*$Q$3 -> 0
A5: ΦΕΒΡΟΥΑΡΙΟΣ | M5: ΦΕΒΡΟΥΑΡΙΟΣ | S5: ΦΕΒΡΟΥΑΡΙΟΣ | T5: =B5*30*$Q$3 -> 0 | U5: =C5*30*$Q$3 -> 0 | V5: =D5*30*$Q$3 -> 0 | W5: =E5*30*$Q$3 -> 0 | X5: =F5*30*$Q$3 -> 0 | Y5: =G5*30*$Q$3 -> 0 | Z5: =H5*30*$Q$3 -> 0 | AA5: =I5*30*$Q$3 -> 0 | ... AC5: =K5*30*$Q$3 -> 0
A6: ΜΑΡΤΙΟΣ | M6: ΜΑΡΤΙΟΣ | S6: ΜΑΡΤΙΟΣ | T6: =B6*30*$Q$3 -> 0 | U6: =C6*30*$Q$3 -> 0 | V6: =D6*30*$Q$3 -> 0 | W6: =E6*30*$Q$3 -> 0 | X6: =F6*30*$Q$3 -> 0 | Y6: =G6*30*$Q$3 -> 0 | Z6: =H6*30*$Q$3 -> 0 | AA6: =I6*30*$Q$3 -> 0 | ... AC6: =K6*30*$Q$3 -> 0
A7: ΑΠΡΙΛΙΟΣ | M7: ΑΠΡΙΛΙΟΣ | S7: ΑΠΡΙΛΙΟΣ | T7: =B7*30*$Q$3 -> 0 | U7: =C7*30*$Q$3 -> 0 | V7: =D7*30*$Q$3 -> 0 | W7: =E7*30*$Q$3 -> 0 | X7: =F7*30*$Q$3 -> 0 | Y7: =G7*30*$Q$3 -> 0 | Z7: =H7*30*$Q$3 -> 0 | AA7: =I7*30*$Q$3 -> 0 | ... AC7: =K7*30*$Q$3 -> 0
A8: ΜΑΙΟΣ | M8: ΜΑΙΟΣ | S8: ΜΑΙΟΣ | T8: =B8*30*$Q$3 -> 0 | U8: =C8*30*$Q$3 -> 0 | V8: =D8*30*$Q$3 -> 0 | W8: =E8*30*$Q$3 -> 0 | X8: =F8*30*$Q$3 -> 0 | Y8: =G8*30*$Q$3 -> 0 | Z8: =H8*30*$Q$3 -> 0 | AA8: =I8*30*$Q$3 -> 0 | ... AC8: =K8*30*$Q$3 -> 0
A9: ΙΟΥΝΙΟΣ | M9: ΙΟΥΝΙΟΣ | S9: ΙΟΥΝΙΟΣ | T9: =B9*30*$Q$3 -> 0 | U9: =C9*30*$Q$3 -> 0 | V9: =D9*30*$Q$3 -> 0 | W9: =E9*30*$Q$3 -> 0 | X9: =F9*30*$Q$3 -> 0 | Y9: =G9*30*$Q$3 -> 0 | Z9: =H9*30*$Q$3 -> 0 | AA9: =I9*30*$Q$3 -> 0 | ... AC9: =K9*30*$Q$3 -> 0
A10: ΙΟΥΛΙΟΣ | M10: ΙΟΥΛΙΟΣ | S10: ΙΟΥΛΙΟΣ | T10: =B10*30*$Q$3 -> 0 | U10: =C10*30*$Q$3 -> 0 | V10: =D10*30*$Q$3 -> 0 | W10: =E10*30*$Q$3 -> 0 | X10: =F10*30*$Q$3 -> 0 | Y10: =G10*30*$Q$3 -> 0 | Z10: =H10*30*$Q$3 -> 0 | AA10: =I10*30*$Q$3 -> 0 | ... AC10: =K10*30*$Q$3 -> 0
A11: ΑΥΓΟΥΣΤΟΣ | M11: ΑΥΓΟΥΣΤΟΣ | S11: ΑΥΓΟΥΣΤΟΣ | T11: =B11*30*$Q$3 -> 0 | U11: =C11*30*$Q$3 -> 0 | V11: =D11*30*$Q$3 -> 0 | W11: =E11*30*$Q$3 -> 0 | X11: =F11*30*$Q$3 -> 0 | Y11: =G11*30*$Q$3 -> 0 | Z11: =H11*30*$Q$3 -> 0 | AA11: =I11*30*$Q$3 -> 0 | ... AC11: =K11*30*$Q$3 -> 0
A12: ΣΕΠΤΕΜΒΡΙΟΣ | M12: ΣΕΠΤΕΜΒΡΙΟΣ | S12: ΣΕΠΤΕΜΒΡΙΟΣ | T12: =B12*30*$Q$3 -> 0 | U12: =C12*30*$Q$3 -> 0 | V12: =D12*30*$Q$3 -> 0 | W12: =E12*30*$Q$3 -> 0 | X12: =F12*30*$Q$3 -> 0 | Y12: =G12*30*$Q$3 -> 0 | Z12: =H12*30*$Q$3 -> 0 | AA12: =I12*30*$Q$3 -> 0 | ... AC12: =K12*30*$Q$3 -> 0
A13: ΟΚΤΩΒΡΙΟΣ | M13: ΟΚΤΩΒΡΙΟΣ | S13: ΟΚΤΩΒΡΙΟΣ | T13: =B13*30*$Q$3 -> 0 | U13: =C13*30*$Q$3 -> 0 | V13: =D13*30*$Q$3 -> 0 | W13: =E13*30*$Q$3 -> 0 | X13: =F13*30*$Q$3 -> 0 | Y13: =G13*30*$Q$3 -> 0 | Z13: =H13*30*$Q$3 -> 0 | AA13: =I13*30*$Q$3 -> 0 | ... AC13: =K13*30*$Q$3 -> 0
A14: ΝΟΕΜΒΡΙΟΣ | M14: ΝΟΕΜΒΡΙΟΣ | S14: ΝΟΕΜΒΡΙΟΣ | T14: =B14*30*$Q$3 -> 0 | U14: =C14*30*$Q$3 -> 0 | V14: =D14*30*$Q$3 -> 0 | W14: =E14*30*$Q$3 -> 0 | X14: =F14*30*$Q$3 -> 0 | Y14: =G14*30*$Q$3 -> 0 | Z14: =H14*30*$Q$3 -> 0 | AA14: =I14*30*$Q$3 -> 0 | ... AC14: =K14*30*$Q$3 -> 0
A15: ΔΕΚΕΜΒΡΙΟΣ | M15: ΔΕΚΕΜΒΡΙΟΣ | S15: ΔΕΚΕΜΒΡΙΟΣ | T15: =B15*30*$Q$3 -> 0 | U15: =C15*30*$Q$3 -> 0 | V15: =D15*30*$Q$3 -> 0 | W15: =E15*30*$Q$3 -> 0 | X15: =F15*30*$Q$3 -> 0 | Y15: =G15*30*$Q$3 -> 0 | Z15: =H15*30*$Q$3 -> 0 | AA15: =I15*30*$Q$3 -> 0 | ... AC15: =K15*30*$Q$3 -> 0
A16: ΜΗΝΕΣ ΛΕΙΤΟΥΡΓΙΑΣ ΑΝΑ ΕΤΟΣ | S16: ΣΥΝΟΛΙΚΑ/ΕΤΟΣ | T16: =SUM(T4:T15) -> 0 | U16: =SUM(U4:U15) -> 0 | V16: =SUM(V4:V15) -> 0 | W16: =SUM(W4:W15) -> 0 | X16: =SUM(X4:X15) -> 0 | Y16: =SUM(Y4:Y15) -> 0 | Z16: =SUM(Z4:Z15) -> 0 | AA16: =SUM(AA4:AA15) -> 0 | ... AC16: =SUM(AC4:AC15) -> 0
A17: ΜΕΣΗ ΕΤΗΣΙΑ ΠΛΗΡΟΤΗΤΑ: (ΣΥΝΟΛΟ ΜΕΣΗΣ ΜΗΝΙΑΙΑΣ ΠΛΗΡΟΤΗΤΑΣ / ΜΗΝΕΣ ΛΕΙΤΟΥΡΓΙΑΣ ΤΗΣ ΜΟΝΑΔΑΣ ΑΝΑ ΕΤΟΣ) | B17: =SUM(B4:B15)/B16 -> #DIV/0! | C17: =SUM(C4:C15)/C16 -> #DIV/0! | D17: =SUM(D4:D15)/D16 -> #DIV/0! | E17: =SUM(E4:E15)/E16 -> #DIV/0! | F17: =SUM(F4:F15)/F16 -> #DIV/0! | G17: =SUM(G4:G15)/G16 -> #DIV/0! | H17: =SUM(H4:H15)/H16 -> #DIV/0! | I17: =SUM(I4:I15)/I16 -> #DIV/0! | ... K17: =SUM(K4:K15)/K16 -> #DIV/0!
B19: ΕΣΟΔΑ ΑΠΟ ΔΙΑΝΥΚΤΕΡΕΥΣΕΙΣ (ΣΕ €)
B20: 1 | C20: 2 | D20: 3 | E20: 4 | F20: 5 | G20: 6 | H20: 7 | I20: 8 | J20: 9 | K20: 10 | M20: ΚΑΤΗΓΟΡΙΑ | N20: ΣΥΝΤΕΛΕΣΤΗΣ ΣΥΧΝΟΤΗΤΑΣ - ΚΑΤΑΝΑΛΩΣΗΣ / ΔΙΑΝΥΚΤΕΡΕΥΟΝΤΑ ΠΕΛΑΤΗ | O20: ΜΕΣΗ ΤΙΜΗ ΔΙΑΘΕΣΗΣ/ ΜΟΝΑΔΑ
A21: ΙΑΝΟΥΑΡΙΟΣ | B21: =B4*($N4*$N$3+$O4*$O$3+$P4*$P$3)*30 -> 0 | C21: =C4*($N4*$N$3+$O4*$O$3+$P4*$P$3)*30 -> 0 | D21: =D4*($N4*$N$3+$O4*$O$3+$P4*$P$3)*30 -> 0 | E21: =E4*($N4*$N$3+$O4*$O$3+$P4*$P$3)*30 -> 0 | F21: =F4*($N4*$N$3+$O4*$O$3+$P4*$P$3)*30 -> 0 | G21: =G4*($N4*$N$3+$O4*$O$3+$P4*$P$3)*30 -> 0 | H21: =H4*($N4*$N$3+$O4*$O$3+$P4*$P$3)*30 -> 0 | I21: =I4*($N4*$N$3+$O4*$O$3+$P4*$P$3)*30 -> 0 | ... K21: =K4*($N4*$N$3+$O4*$O$3+$P4*$P$3)*30 -> 0 | M21: Πρωϊνό
A22: ΦΕΒΡΟΥΑΡΙΟΣ | B22: =B5*($N5*$N$3+$O5*$O$3+$P5*$P$3)*30 -> 0 | C22: =C5*($N5*$N$3+$O5*$O$3+$P5*$P$3)*30 -> 0 | D22: =D5*($N5*$N$3+$O5*$O$3+$P5*$P$3)*30 -> 0 | E22: =E5*($N5*$N$3+$O5*$O$3+$P5*$P$3)*30 -> 0 | F22: =F5*($N5*$N$3+$O5*$O$3+$P5*$P$3)*30 -> 0 | G22: =G5*($N5*$N$3+$O5*$O$3+$P5*$P$3)*30 -> 0 | H22: =H5*($N5*$N$3+$O5*$O$3+$P5*$P$3)*30 -> 0 | I22: =I5*($N5*$N$3+$O5*$O$3+$P5*$P$3)*30 -> 0 | ... K22: =K5*($N5*$N$3+$O5*$O$3+$P5*$P$3)*30 -> 0 | M22: Εστιατόριο
A23: ΜΑΡΤΙΟΣ | B23: =B6*($N6*$N$3+$O6*$O$3+$P6*$P$3)*30 -> 0 | C23: =C6*($N6*$N$3+$O6*$O$3+$P6*$P$3)*30 -> 0 | D23: =D6*($N6*$N$3+$O6*$O$3+$P6*$P$3)*30 -> 0 | E23: =E6*($N6*$N$3+$O6*$O$3+$P6*$P$3)*30 -> 0 | F23: =F6*($N6*$N$3+$O6*$O$3+$P6*$P$3)*30 -> 0 | G23: =G6*($N6*$N$3+$O6*$O$3+$P6*$P$3)*30 -> 0 | H23: =H6*($N6*$N$3+$O6*$O$3+$P6*$P$3)*30 -> 0 | I23: =I6*($N6*$N$3+$O6*$O$3+$P6*$P$3)*30 -> 0 | ... K23: =K6*($N6*$N$3+$O6*$O$3+$P6*$P$3)*30 -> 0 | M23: Μπάρ, Καφετέρια κλπ
A24: ΑΠΡΙΛΙΟΣ | B24: =B7*($N7*$N$3+$O7*$O$3+$P7*$P$3)*30 -> 0 | C24: =C7*($N7*$N$3+$O7*$O$3+$P7*$P$3)*30 -> 0 | D24: =D7*($N7*$N$3+$O7*$O$3+$P7*$P$3)*30 -> 0 | E24: =E7*($N7*$N$3+$O7*$O$3+$P7*$P$3)*30 -> 0 | F24: =F7*($N7*$N$3+$O7*$O$3+$P7*$P$3)*30 -> 0 | G24: =G7*($N7*$N$3+$O7*$O$3+$P7*$P$3)*30 -> 0 | H24: =H7*($N7*$N$3+$O7*$O$3+$P7*$P$3)*30 -> 0 | I24: =I7*($N7*$N$3+$O7*$O$3+$P7*$P$3)*30 -> 0 | ... K24: =K7*($N7*$N$3+$O7*$O$3+$P7*$P$3)*30 -> 0
A25: ΜΑΙΟΣ | B25: =B8*($N8*$N$3+$O8*$O$3+$P8*$P$3)*30 -> 0 | C25: =C8*($N8*$N$3+$O8*$O$3+$P8*$P$3)*30 -> 0 | D25: =D8*($N8*$N$3+$O8*$O$3+$P8*$P$3)*30 -> 0 | E25: =E8*($N8*$N$3+$O8*$O$3+$P8*$P$3)*30 -> 0 | F25: =F8*($N8*$N$3+$O8*$O$3+$P8*$P$3)*30 -> 0 | G25: =G8*($N8*$N$3+$O8*$O$3+$P8*$P$3)*30 -> 0 | H25: =H8*($N8*$N$3+$O8*$O$3+$P8*$P$3)*30 -> 0 | I25: =I8*($N8*$N$3+$O8*$O$3+$P8*$P$3)*30 -> 0 | ... K25: =K8*($N8*$N$3+$O8*$O$3+$P8*$P$3)*30 -> 0
A26: ΙΟΥΝΙΟΣ | B26: =B9*($N9*$N$3+$O9*$O$3+$P9*$P$3)*30 -> 0 | C26: =C9*($N9*$N$3+$O9*$O$3+$P9*$P$3)*30 -> 0 | D26: =D9*($N9*$N$3+$O9*$O$3+$P9*$P$3)*30 -> 0 | E26: =E9*($N9*$N$3+$O9*$O$3+$P9*$P$3)*30 -> 0 | F26: =F9*($N9*$N$3+$O9*$O$3+$P9*$P$3)*30 -> 0 | G26: =G9*($N9*$N$3+$O9*$O$3+$P9*$P$3)*30 -> 0 | H26: =H9*($N9*$N$3+$O9*$O$3+$P9*$P$3)*30 -> 0 | I26: =I9*($N9*$N$3+$O9*$O$3+$P9*$P$3)*30 -> 0 | ... K26: =K9*($N9*$N$3+$O9*$O$3+$P9*$P$3)*30 -> 0
A27: ΙΟΥΛΙΟΣ | B27: =B10*($N10*$N$3+$O10*$O$3+$P10*$P$3)*30 -> 0 | C27: =C10*($N10*$N$3+$O10*$O$3+$P10*$P$3)*30 -> 0 | D27: =D10*($N10*$N$3+$O10*$O$3+$P10*$P$3)*30 -> 0 | E27: =E10*($N10*$N$3+$O10*$O$3+$P10*$P$3)*30 -> 0 | F27: =F10*($N10*$N$3+$O10*$O$3+$P10*$P$3)*30 -> 0 | G27: =G10*($N10*$N$3+$O10*$O$3+$P10*$P$3)*30 -> 0 | H27: =H10*($N10*$N$3+$O10*$O$3+$P10*$P$3)*30 -> 0 | I27: =I10*($N10*$N$3+$O10*$O$3+$P10*$P$3)*30 -> 0 | ... K27: =K10*($N10*$N$3+$O10*$O$3+$P10*$P$3)*30 -> 0
A28: ΑΥΓΟΥΣΤΟΣ | B28: =B11*($N11*$N$3+$O11*$O$3+$P11*$P$3)*30 -> 0 | C28: =C11*($N11*$N$3+$O11*$O$3+$P11*$P$3)*30 -> 0 | D28: =D11*($N11*$N$3+$O11*$O$3+$P11*$P$3)*30 -> 0 | E28: =E11*($N11*$N$3+$O11*$O$3+$P11*$P$3)*30 -> 0 | F28: =F11*($N11*$N$3+$O11*$O$3+$P11*$P$3)*30 -> 0 | G28: =G11*($N11*$N$3+$O11*$O$3+$P11*$P$3)*30 -> 0 | H28: =H11*($N11*$N$3+$O11*$O$3+$P11*$P$3)*30 -> 0 | I28: =I11*($N11*$N$3+$O11*$O$3+$P11*$P$3)*30 -> 0 | ... K28: =K11*($N11*$N$3+$O11*$O$3+$P11*$P$3)*30 -> 0
A29: ΣΕΠΤΕΜΒΡΙΟΣ | B29: =B12*($N12*$N$3+$O12*$O$3+$P12*$P$3)*30 -> 0 | C29: =C12*($N12*$N$3+$O12*$O$3+$P12*$P$3)*30 -> 0 | D29: =D12*($N12*$N$3+$O12*$O$3+$P12*$P$3)*30 -> 0 | E29: =E12*($N12*$N$3+$O12*$O$3+$P12*$P$3)*30 -> 0 | F29: =F12*($N12*$N$3+$O12*$O$3+$P12*$P$3)*30 -> 0 | G29: =G12*($N12*$N$3+$O12*$O$3+$P12*$P$3)*30 -> 0 | H29: =H12*($N12*$N$3+$O12*$O$3+$P12*$P$3)*30 -> 0 | I29: =I12*($N12*$N$3+$O12*$O$3+$P12*$P$3)*30 -> 0 | ... K29: =K12*($N12*$N$3+$O12*$O$3+$P12*$P$3)*30 -> 0
A30: ΟΚΤΩΒΡΙΟΣ | B30: =B13*($N13*$N$3+$O13*$O$3+$P13*$P$3)*30 -> 0 | C30: =C13*($N13*$N$3+$O13*$O$3+$P13*$P$3)*30 -> 0 | D30: =D13*($N13*$N$3+$O13*$O$3+$P13*$P$3)*30 -> 0 | E30: =E13*($N13*$N$3+$O13*$O$3+$P13*$P$3)*30 -> 0 | F30: =F13*($N13*$N$3+$O13*$O$3+$P13*$P$3)*30 -> 0 | G30: =G13*($N13*$N$3+$O13*$O$3+$P13*$P$3)*30 -> 0 | H30: =H13*($N13*$N$3+$O13*$O$3+$P13*$P$3)*30 -> 0 | I30: =I13*($N13*$N$3+$O13*$O$3+$P13*$P$3)*30 -> 0 | ... K30: =K13*($N13*$N$3+$O13*$O$3+$P13*$P$3)*30 -> 0
A31: ΝΟΕΜΒΡΙΟΣ | B31: =B14*($N14*$N$3+$O14*$O$3+$P14*$P$3)*30 -> 0 | C31: =C14*($N14*$N$3+$O14*$O$3+$P14*$P$3)*30 -> 0 | D31: =D14*($N14*$N$3+$O14*$O$3+$P14*$P$3)*30 -> 0 | E31: =E14*($N14*$N$3+$O14*$O$3+$P14*$P$3)*30 -> 0 | F31: =F14*($N14*$N$3+$O14*$O$3+$P14*$P$3)*30 -> 0 | G31: =G14*($N14*$N$3+$O14*$O$3+$P14*$P$3)*30 -> 0 | H31: =H14*($N14*$N$3+$O14*$O$3+$P14*$P$3)*30 -> 0 | I31: =I14*($N14*$N$3+$O14*$O$3+$P14*$P$3)*30 -> 0 | ... K31: =K14*($N14*$N$3+$O14*$O$3+$P14*$P$3)*30 -> 0
A32: ΔΕΚΕΜΒΡΙΟΣ | B32: =B15*($N15*$N$3+$O15*$O$3+$P15*$P$3)*30 -> 0 | C32: =C15*($N15*$N$3+$O15*$O$3+$P15*$P$3)*30 -> 0 | D32: =D15*($N15*$N$3+$O15*$O$3+$P15*$P$3)*30 -> 0 | E32: =E15*($N15*$N$3+$O15*$O$3+$P15*$P$3)*30 -> 0 | F32: =F15*($N15*$N$3+$O15*$O$3+$P15*$P$3)*30 -> 0 | G32: =G15*($N15*$N$3+$O15*$O$3+$P15*$P$3)*30 -> 0 | H32: =H15*($N15*$N$3+$O15*$O$3+$P15*$P$3)*30 -> 0 | I32: =I15*($N15*$N$3+$O15*$O$3+$P15*$P$3)*30 -> 0 | ... K32: =K15*($N15*$N$3+$O15*$O$3+$P15*$P$3)*30 -> 0
A33: ΣΥΝΟΛΙΚΑ ΕΣΟΔΑ ΑΠΟ ΔΙΑΝΥΚΤΕΡΕΥΣΕΙΣ/ΕΤΟΣ | B33: =SUM(B21:B32) -> 0 | C33: =SUM(C21:C32) -> 0 | D33: =SUM(D21:D32) -> 0 | E33: =SUM(E21:E32) -> 0 | F33: =SUM(F21:F32) -> 0 | G33: =SUM(G21:G32) -> 0 | H33: =SUM(H21:H32) -> 0 | I33: =SUM(I21:I32) -> 0 | ... K33: =SUM(K21:K32) -> 0
B35: ΕΣΟΔΑ ΑΠΟ ΕΣΤΙΑΣΗ (ΣΕ €)
B36: 1 | C36: 2 | D36: 3 | E36: 4 | F36: 5 | G36: 6 | H36: 7 | I36: 8 | J36: 9 | K36: 10
A37: ΙΑΝΟΥΑΡΙΟΣ | B37: =T4*(($N$21*$O$21)+($N$22*$O$22)+($N$23*$O$23)) -> 0 | C37: =U4*(($N$21*$O$21)+($N$22*$O$22)+($N$23*$O$23)) -> 0 | D37: =V4*(($N$21*$O$21)+($N$22*$O$22)+($N$23*$O$23)) -> 0 | E37: =W4*(($N$21*$O$21)+($N$22*$O$22)+($N$23*$O$23)) -> 0 | F37: =X4*(($N$21*$O$21)+($N$22*$O$22)+($N$23*$O$23)) -> 0 | G37: =Y4*(($N$21*$O$21)+($N$22*$O$22)+($N$23*$O$23)) -> 0 | H37: =Z4*(($N$21*$O$21)+($N$22*$O$22)+($N$23*$O$23)) -> 0 | I37: =AA4*(($N$21*$O$21)+($N$22*$O$22)+($N$23*$O$23)) -> 0 | ... K37: =AC4*(($N$21*$O$21)+($N$22*$O$22)+($N$23*$O$23)) -> 0
A38: ΦΕΒΡΟΥΑΡΙΟΣ | B38: =T5*(($N$21*$O$21)+($N$22*$O$22)+($N$23*$O$23)) -> 0 | C38: =U5*(($N$21*$O$21)+($N$22*$O$22)+($N$23*$O$23)) -> 0 | D38: =V5*(($N$21*$O$21)+($N$22*$O$22)+($N$23*$O$23)) -> 0 | E38: =W5*(($N$21*$O$21)+($N$22*$O$22)+($N$23*$O$23)) -> 0 | F38: =X5*(($N$21*$O$21)+($N$22*$O$22)+($N$23*$O$23)) -> 0 | G38: =Y5*(($N$21*$O$21)+($N$22*$O$22)+($N$23*$O$23)) -> 0 | H38: =Z5*(($N$21*$O$21)+($N$22*$O$22)+($N$23*$O$23)) -> 0 | I38: =AA5*(($N$21*$O$21)+($N$22*$O$22)+($N$23*$O$23)) -> 0 | ... K38: =AC5*(($N$21*$O$21)+($N$22*$O$22)+($N$23*$O$23)) -> 0
A39: ΜΑΡΤΙΟΣ | B39: =T6*(($N$21*$O$21)+($N$22*$O$22)+($N$23*$O$23)) -> 0 | C39: =U6*(($N$21*$O$21)+($N$22*$O$22)+($N$23*$O$23)) -> 0 | D39: =V6*(($N$21*$O$21)+($N$22*$O$22)+($N$23*$O$23)) -> 0 | E39: =W6*(($N$21*$O$21)+($N$22*$O$22)+($N$23*$O$23)) -> 0 | F39: =X6*(($N$21*$O$21)+($N$22*$O$22)+($N$23*$O$23)) -> 0 | G39: =Y6*(($N$21*$O$21)+($N$22*$O$22)+($N$23*$O$23)) -> 0 | H39: =Z6*(($N$21*$O$21)+($N$22*$O$22)+($N$23*$O$23)) -> 0 | I39: =AA6*(($N$21*$O$21)+($N$22*$O$22)+($N$23*$O$23)) -> 0 | ... K39: =AC6*(($N$21*$O$21)+($N$22*$O$22)+($N$23*$O$23)) -> 0
A40: ΑΠΡΙΛΙΟΣ | B40: =T7*(($N$21*$O$21)+($N$22*$O$22)+($N$23*$O$23)) -> 0 | C40: =U7*(($N$21*$O$21)+($N$22*$O$22)+($N$23*$O$23)) -> 0 | D40: =V7*(($N$21*$O$21)+($N$22*$O$22)+($N$23*$O$23)) -> 0 | E40: =W7*(($N$21*$O$21)+($N$22*$O$22)+($N$23*$O$23)) -> 0 | F40: =X7*(($N$21*$O$21)+($N$22*$O$22)+($N$23*$O$23)) -> 0 | G40: =Y7*(($N$21*$O$21)+($N$22*$O$22)+($N$23*$O$23)) -> 0 | H40: =Z7*(($N$21*$O$21)+($N$22*$O$22)+($N$23*$O$23)) -> 0 | I40: =AA7*(($N$21*$O$21)+($N$22*$O$22)+($N$23*$O$23)) -> 0 | ... K40: =AC7*(($N$21*$O$21)+($N$22*$O$22)+($N$23*$O$23)) -> 0
A41: ΜΑΙΟΣ | B41: =T8*(($N$21*$O$21)+($N$22*$O$22)+($N$23*$O$23)) -> 0 | C41: =U8*(($N$21*$O$21)+($N$22*$O$22)+($N$23*$O$23)) -> 0 | D41: =V8*(($N$21*$O$21)+($N$22*$O$22)+($N$23*$O$23)) -> 0 | E41: =W8*(($N$21*$O$21)+($N$22*$O$22)+($N$23*$O$23)) -> 0 | F41: =X8*(($N$21*$O$21)+($N$22*$O$22)+($N$23*$O$23)) -> 0 | G41: =Y8*(($N$21*$O$21)+($N$22*$O$22)+($N$23*$O$23)) -> 0 | H41: =Z8*(($N$21*$O$21)+($N$22*$O$22)+($N$23*$O$23)) -> 0 | I41: =AA8*(($N$21*$O$21)+($N$22*$O$22)+($N$23*$O$23)) -> 0 | ... K41: =AC8*(($N$21*$O$21)+($N$22*$O$22)+($N$23*$O$23)) -> 0
A42: ΙΟΥΝΙΟΣ | B42: =T9*(($N$21*$O$21)+($N$22*$O$22)+($N$23*$O$23)) -> 0 | C42: =U9*(($N$21*$O$21)+($N$22*$O$22)+($N$23*$O$23)) -> 0 | D42: =V9*(($N$21*$O$21)+($N$22*$O$22)+($N$23*$O$23)) -> 0 | E42: =W9*(($N$21*$O$21)+($N$22*$O$22)+($N$23*$O$23)) -> 0 | F42: =X9*(($N$21*$O$21)+($N$22*$O$22)+($N$23*$O$23)) -> 0 | G42: =Y9*(($N$21*$O$21)+($N$22*$O$22)+($N$23*$O$23)) -> 0 | H42: =Z9*(($N$21*$O$21)+($N$22*$O$22)+($N$23*$O$23)) -> 0 | I42: =AA9*(($N$21*$O$21)+($N$22*$O$22)+($N$23*$O$23)) -> 0 | ... K42: =AC9*(($N$21*$O$21)+($N$22*$O$22)+($N$23*$O$23)) -> 0
...

Sheet ΚΟΣΤΟΣ_ΜΟΝΑΔΑΣ
A1: ΕΙΔΟΣ ΔΑΠΑΝΗΣ ΣΥΝΔΕΟΜΕΝΗΣ ΜΕ ΤΟ ΕΠΕΝΔΥΤΙΚΟ ΣΧΕΔΙΟ | B1: 1 | C1: 2 | D1: 3 | E1: 4 | F1: 5 | G1: 6 | H1: 7 | I1: 8 | J1: 9 | K1: 10
A2: ΕΞΟΔΑ ΑΜΟΙΒΗΣ ΕΡΓΑΖΟΜΕΝΩΝ
A3: ΕΞΟΔΑ ΑΝΑΛΩΣΙΜΩΝ ΤΡΟΦΙΜΩΝ ΠΟΤΩΝ
A4: ΕΞΟΔΑ ΔΙΑΤΡΟΦΗΣ ΠΡΟΣΩΠΙΚΟΥ
A5: ΕΞΟΔΑ ΚΑΘΑΡΙΟΤΗΤΑΣ - ΙΜΑΤΙΣΜΟΥ
A6: ΕΞΟΔΑ ΣΥΝΤΗΡΗΣΗΣ ΠΑΓΙΩΝ
A7: ΑΣΦΑΛΙΣΤΡΑ (ασφάλισης παγίων και αστικής ευθύνης)
A8: ΛΟΙΠΑ ΕΞΟΔΑ
A9: ΣΥΝΟΛΟ ΚΟΣΤΟΥΣ ΠΑΡΟΧΗΣ ΥΠΗΡΕΣΙΩΝ ΜΟΝΑΔΑΣ | B9: =SUM(B2:B8) -> 0 | C9: =SUM(C2:C8) -> 0 | D9: =SUM(D2:D8) -> 0 | E9: =SUM(E2:E8) -> 0 | F9: =SUM(F2:F8) -> 0 | G9: =SUM(G2:G8) -> 0 | H9: =SUM(H2:H8) -> 0 | I9: =SUM(I2:I8) -> 0 | ... K9: =SUM(K2:K8) -> 0
A11: Τα ΕΞΟΔΑ ΔΙΟΙΚΗΣΗΣ και ΕΞΟΔΑ ΔΙΑΘΕΣΗΣ (π.χ. Προμήθειες σε τουριστικά γραφεία & διαφήμιση, κλπ) δεν θα συμπεριλαμβάνονται στον παραπάνω πίνακα. Θα εισάγονται (για το σύνολο του φορέα) απευθείας στον πίνακα "Λογαριασμός Εκμετάλλευσης".

Sheet ΕΣΟΔΑ_ΚΟΣΤΟΣ_ΦΟΡΕΑ
A1: ΕΣΟΔΑ - ΚΟΣΤΟΣ ΦΟΡΕΑ ΕΠΕΝΔΥΤΙΚΟΥ ΣΧΕΔΙΟΥ | B1: 1 | C1: 2 | D1: 3 | E1: 4 | F1: 5 | G1: 6 | H1: 7 | I1: 8 | J1: 9 | K1: 10
A2: ΕΣΟΔΑ ΤΟΥ ΕΠΕΝΔΥΤΙΚΟΥ ΣΧΕΔΙΟΥ | B2: =ΠΛΗΡΟΤΗΤΕΣ_ΕΣΟΔΑ_ΜΟΝΑΔΑΣ!B66 -> 0 | C2: =ΠΛΗΡΟΤΗΤΕΣ_ΕΣΟΔΑ_ΜΟΝΑΔΑΣ!C66 -> 0 | D2: =ΠΛΗΡΟΤΗΤΕΣ_ΕΣΟΔΑ_ΜΟΝΑΔΑΣ!D66 -> 0 | E2: =ΠΛΗΡΟΤΗΤΕΣ_ΕΣΟΔΑ_ΜΟΝΑΔΑΣ!E66 -> 0 | F2: =ΠΛΗΡΟΤΗΤΕΣ_ΕΣΟΔΑ_ΜΟΝΑΔΑΣ!F66 -> 0 | G2: =ΠΛΗΡΟΤΗΤΕΣ_ΕΣΟΔΑ_ΜΟΝΑΔΑΣ!G66 -> 0 | H2: =ΠΛΗΡΟΤΗΤΕΣ_ΕΣΟΔΑ_ΜΟΝΑΔΑΣ!H66 -> 0 | I2: =ΠΛΗΡΟΤΗΤΕΣ_ΕΣΟΔΑ_ΜΟΝΑΔΑΣ!I66 -> 0 | ... K2: =ΠΛΗΡΟΤΗΤΕΣ_ΕΣΟΔΑ_ΜΟΝΑΔΑΣ!K66 -> 0
A3: ΕΣΟΔΑ ΤΟΥ ΦΟΡΕΑ (ΠΟΥ ΔΕΝ ΣΥΝΔΕΟΝΤΑΙ ΜΕ ΤΗΝ ΕΠΕΝΔΥΣΗ)
A4: ΣΥΝΟΛΟ ΕΣΟΔΩΝ ΦΟΡΕΑ | B4: =SUM(B2:B3) -> 0 | C4: =SUM(C2:C3) -> 0 | D4: =SUM(D2:D3) -> 0 | E4: =SUM(E2:E3) -> 0 | F4: =SUM(F2:F3) -> 0 | G4: =SUM(G2:G3) -> 0 | H4: =SUM(H2:H3) -> 0 | I4: =SUM(I2:I3) -> 0 | ... K4: =SUM(K2:K3) -> 0
A5: ΚΟΣΤΟΣ ΠΑΡΟΧΗΣ ΥΠΗΡΕΣΙΩΝ ΤΟΥ ΕΠΕΝΔΥΤΙΚΟΥ ΣΧΕΔΙΟΥ | B5: =ΚΟΣΤΟΣ_ΜΟΝΑΔΑΣ!B9 -> 0 | C5: =ΚΟΣΤΟΣ_ΜΟΝΑΔΑΣ!C9 -> 0 | D5: =ΚΟΣΤΟΣ_ΜΟΝΑΔΑΣ!D9 -> 0 | E5: =ΚΟΣΤΟΣ_ΜΟΝΑΔΑΣ!E9 -> 0 | F5: =ΚΟΣΤΟΣ_ΜΟΝΑΔΑΣ!F9 -> 0 | G5: =ΚΟΣΤΟΣ_ΜΟΝΑΔΑΣ!G9 -> 0 | H5: =ΚΟΣΤΟΣ_ΜΟΝΑΔΑΣ!H9 -> 0 | I5: =ΚΟΣΤΟΣ_ΜΟΝΑΔΑΣ!I9 -> 0 | ... K5: =ΚΟΣΤΟΣ_ΜΟΝΑΔΑΣ!K9 -> 0
A6: ΚΟΣΤΟΣ ΠΑΡΑΓΩΓΗΣ / ΠΑΡΟΧΗΣ ΥΠΗΡΕΣΙΩΝ ΤΟΥ ΦΟΡΕΑ (ΠΟΥ ΔΕΝ ΣΥΝΔΕΕΤΑΙ ΜΕ ΤΗΝ ΕΠΕΝΔΥΣΗ)
A7: ΣΥΝΟΛΟ ΚΟΣΤΟΥΣ ΦΟΡΕΑ | B7: =SUM(B5:B6) -> 0 | C7: =SUM(C5:C6) -> 0 | D7: =SUM(D5:D6) -> 0 | E7: =SUM(E5:E6) -> 0 | F7: =SUM(F5:F6) -> 0 | G7: =SUM(G5:G6) -> 0 | H7: =SUM(H5:H6) -> 0 | I7: =SUM(I5:I6) -> 0 | ... K7: =SUM(K5:K6) -> 0

Sheet ΚΕΦΑΛΑΙΟ ΚΙΝΗΣΗΣ
A1: Α. ΚΕΦΑΛΑΙΟ ΚΙΝΗΣΗΣ ΥΦΙΣΤΑΜΕΝΗΣ ΔΡΑΣΤΗΡΙΟΤΗΤΑΣ ΧΩΡΙΣ ΤΗΝ ΥΛΟΠΟΙΗΣΗ ΤΟΥ ΕΠΕΝΔΥΤΙΚΟΥ ΣΧΕΔΙΟΥ Δεσμεύσεις για: | B1: ΗΜΕΡΕΣ ΔΕΣΜΕΥΣΗΣ | C1: 1ο Ετος | D1: 2ο Ετος | E1: 3ο Ετος | F1: 4ο Ετος | G1: 5ο Ετος | H1: 6ο Ετος | I1: 7ο Ετος | J1: 8ο Ετος | K1: 9ο Ετος | L1: 10ο Ετος
A2: (1) Αποθέματα Τροφίμων - Ποτών
A3: (2) Αναγκαία Διαθέσιμα για μισθοδοσία, ΔΕΗ, ΟΤΕ κλπ δαπάνες
A4: (3) Λοιπά Αναγκαία Διαθέσιμα (πχ ΔΕΗ, ΟΤΕ)
A5: (4) Πιστώσεις προς πελατεία
A6: - Μείον Πιστώσεις Προμήθευτών
A7: - Μείον Προκαταβολές πελατών
A8: ΚΕΦΑΛΑΙΟ ΚΙΝΗΣΗΣ ΧΩΡΙΣ ΤΗΝ ΕΠΕΝΔΥΣΗ | C8: =SUM(C2:C5)-SUM(C6:C7) -> 0 | D8: =SUM(D2:D5)-SUM(D6:D7) -> 0 | E8: =SUM(E2:E5)-SUM(E6:E7) -> 0 | F8: =SUM(F2:F5)-SUM(F6:F7) -> 0 | G8: =SUM(G2:G5)-SUM(G6:G7) -> 0 | H8: =SUM(H2:H5)-SUM(H6:H7) -> 0 | I8: =SUM(I2:I5)-SUM(I6:I7) -> 0 | J8: =SUM(J2:J5)-SUM(J6:J7) -> 0 | ... L8: =SUM(L2:L5)-SUM(L6:L7) -> 0
A10: Β. ΚΕΦΑΛΑΙΟ ΚΙΝΗΣΗΣ ΜΕΤΑ ΤΗΝ ΥΛΟΠΟΙΗΣΗ ΤΟΥ ΕΠΕΝΔΥΤΙΚΟΥ ΣΧΕΔΙΟΥ Δεσμεύσεις για: | B10: ΗΜΕΡΕΣ ΔΕΣΜΕΥΣΗΣ | C10: 1ο Ετος | D10: 2ο Ετος | E10: 3ο Ετος | F10: 4ο Ετος | G10: 5ο Ετος | H10: 6ο Ετος | I10: 7ο Ετος | J10: 8ο Ετος | K10: 9ο Ετος | L10: 10ο Ετος
A11: (1) Αποθέματα Τροφίμων - Ποτών
A12: (2) Αναγκαία Διαθέσιμα για μισθοδοσία
A13: (3) Λοιπά Αναγκαία Διαθέσιμα (πχ ΔΕΗ, ΟΤΕ)
A14: (4) Πιστώσεις προς πελατεία
A15: - Μείον Πιστώσεις Προμήθευτών
A16: - Μείον Προκαταβολές πελατών
A17: ΚΕΦΑΛΑΙΟ ΚΙΝΗΣΗΣ ΜΕΤΑ ΤΗΝ ΕΠΕΝΔΥΣΗ | C17: =SUM(C11:C14)-SUM(C15:C16) -> 0 | D17: =SUM(D11:D14)-SUM(D15:D16) -> 0 | E17: =SUM(E11:E14)-SUM(E15:E16) -> 0 | F17: =SUM(F11:F14)-SUM(F15:F16) -> 0 | G17: =SUM(G11:G14)-SUM(G15:G16) -> 0 | H17: =SUM(H11:H14)-SUM(H15:H16) -> 0 | I17: =SUM(I11:I14)-SUM(I15:I16) -> 0 | J17: =SUM(J11:J14)-SUM(J15:J16) -> 0 | ... L17: =SUM(L11:L14)-SUM(L15:L16) -> 0
A19: ΣΥΝΟΛΙΚΟ ΠΡΟΣΘΕΤΟ ΚΕΦΑΛΑΙΟ ΚΙΝΗΣΗΣ ΓΙΑ ΤΟ ΕΠΕΝΔΥΤΙΚΟ ΣΧΕΔΙΟ | C19: =C17-C8 -> 0 | D19: =D17-D8 -> 0 | E19: =E17-E8 -> 0 | F19: =F17-F8 -> 0 | G19: =G17-G8 -> 0 | H19: =H17-H8 -> 0 | I19: =I17-I8 -> 0 | J19: =J17-J8 -> 0 | ... L19: =L17-L8 -> 0
A21: ΕΤΗΣΙΑ ΜΕΤΑΒΟΛΗ | C21: =C19 -> 0 | D21: =D19-C19 -> 0 | E21: =E19-D19 -> 0 | F21: =F19-E19 -> 0 | G21: =G19-F19 -> 0 | H21: =H19-G19 -> 0 | I21: =I19-H19 -> 0 | J21: =J19-I19 -> 0 | K21: =K19-J19 -> 0 | L21: =L19-K19 -> 0
A23: Τρόπος χρηματοδότησης του συνολικού κεφακαίου κίνησης μετά την επένδυση
B24: ΠΟΣΟΣΤΟ | C24: 1ο Ετος | D24: 2ο Ετος | E24: 3ο Ετος | F24: 4ο Ετος | G24: 5ο Ετος | H24: 6ο Ετος | I24: 7ο Ετος | J24: 8ο Ετος | K24: 9ο Ετος | L24: 10ο Ετος
A25: ΕΤΗΣΙΕΣ ΑΠΑΙΤΗΣΕΙΣ ΣΕ ΚΕΦΑΛΑΙΟ ΚΙΝΗΣΗΣ | B25: 1 | C25: =C17 -> 0 | D25: =D17 -> 0 | E25: =E17 -> 0 | F25: =F17 -> 0 | G25: =G17 -> 0 | H25: =H17 -> 0 | I25: =I17 -> 0 | J25: =J17 -> 0 | ... L25: =L17 -> 0
A26: Ιδια Κεφάλαια | C26: =$B$26*C25 -> 0 | D26: =$B$26*D25 -> 0 | E26: =$B$26*E25 -> 0 | F26: =$B$26*F25 -> 0 | G26: =$B$26*G25 -> 0 | H26: =$B$26*H25 -> 0 | I26: =$B$26*I25 -> 0 | J26: =$B$26*J25 -> 0 | ... L26: =$B$26*L25 -> 0
A27: Ξένα Κεφάλαια (βραχυπρόθεσμο δάνειο) | C27: =$B$27*C25 -> 0 | D27: =$B$27*D25 -> 0 | E27: =$B$27*E25 -> 0 | F27: =$B$27*F25 -> 0 | G27: =$B$27*G25 -> 0 | H27: =$B$27*H25 -> 0 | I27: =$B$27*I25 -> 0 | J27: =$B$27*J25 -> 0 | ... L27: =$B$27*L25 -> 0
A28: Επιτόκιο
A29: Τόκοι βραχυπρόθεσμου δανεισμού | C29: =$B$28*C27 -> 0 | D29: =$B$28*D27 -> 0 | E29: =$B$28*E27 -> 0 | F29: =$B$28*F27 -> 0 | G29: =$B$28*G27 -> 0 | H29: =$B$28*H27 -> 0 | I29: =$B$28*I27 -> 0 | J29: =$B$28*J27 -> 0 | ... L29: =$B$28*L27 -> 0

Sheet ΜΑΚΡΟΠΡΟΘΕΣΜΟ ΔΑΝΕΙΟ 
A2: ΥΨΟΣ ΔΑΝΕΙΟΥ (*)
A4: ΑΝΑΛΥΣΗ ΠΡΟΒΛΕΠΟΜΕΝΩΝ ΔΟΣΕΩΝ ΜΑΚΡΟΠΡΟΘΕΣΜΟΥ ΔΑΝΕΙΟΥ ΕΠΕΝΔΥΣΗΣ (ΣΕ €)
A5: Σταθερο Τοκοχρεολύσιο
A6: ΥΨΟΣ ΔΑΝΕΙΟΥ | D6: =D2 -> 0
A7: ΕΠΙΤΟΚΙΟ* | D7: 0
A8: ΔΙΑΡΚΕΙΑ ΔΑΝΕΙΟΥ* | E8: ΕΤΗ
A9: ΤΡΟΠΟΣ ΕΞΟΦΛΗΣΗΣ(αριθμός δόσεων ανά έτος)
A10: ΠΕΡΙΟΔΟΣ ΧΑΡΙΤΟΣ | E10: ΕΤΗ
A11: ΠΡΟΒΛΕΠΟΜΕΝΟ ΠΟΣΟ ΚΕΦΑΛΑΙΟΠΟΙΗΣΗΣ ΤΟΚΩΝ ΠΕΡ. ΧΑΡΙΤΟΣ
A12: ΠΡΟΒΛΕΠΟΜΕΝΟ ΠΟΣΟ ΠΛΗΡΩΜΗΣ ΤΟΚΩΝ ΠΕΡ. ΧΑΡΙΤΟΣ
A13: ΥΨΟΣ ΤΟΚΟΧΡΕΟΛΥΤΙΚΗΣ ΔΟΣΗΣ | D13: =-PMT(D7/D9,(D8-D10)*D9,D6+D11,0,0) -> #DIV/0!
A15: Α/Α ΔΟΣΗΣ ΑΠΟΠΛΗΡΩΜΗΣ | B15: ΤΟΚΟΣ | C15: ΧΡΕΟΛΥΣΙΟ | D15: ΤΟΚΟΧΡΕΟΛΥΣΙΟ | E15: ΥΠΟΛΟΙΠΟ ΚΕΦΑΛΑΙΟΥ
A16: ΔΑΝΕΙΟ ΜΕ ΚΕΦΑΛΟΠΟΙΗΣΗ ΤΟΚΩΝ ΠΕΡΙΟΔΟΥ ΧΑΡΙΤΟΣ | E16: =D6+D11 -> 0
A17: 1η Δόση | B17: =E16*$D$7/$D$9 -> #DIV/0! | C17: =D17-B17 -> #DIV/0! | D17: =$D$13 -> #DIV/0! | E17: =E16-C17 -> #DIV/0!
A18: 2η Δόση | B18: =E17*$D$7/$D$9 -> #DIV/0! | C18: =D18-B18 -> #DIV/0! | D18: =$D$13 -> #DIV/0! | E18: =E17-C18 -> #DIV/0!
A19: 3η Δόση | B19: =E18*$D$7/$D$9 -> #DIV/0! | C19: =D19-B19 -> #DIV/0! | D19: =$D$13 -> #DIV/0! | E19: =E18-C19 -> #DIV/0!
A20: 4η Δόση | B20: =E19*$D$7/$D$9 -> #DIV/0! | C20: =D20-B20 -> #DIV/0! | D20: =$D$13 -> #DIV/0! | E20: =E19-C20 -> #DIV/0!
A21: 5η Δόση | B21: =E20*$D$7/$D$9 -> #DIV/0! | C21: =D21-B21 -> #DIV/0! | D21: =$D$13 -> #DIV/0! | E21: =E20-C21 -> #DIV/0!
A22: 6η Δόση | B22: =E21*$D$7/$D$9 -> #DIV/0! | C22: =D22-B22 -> #DIV/0! | D22: =$D$13 -> #DIV/0! | E22: =E21-C22 -> #DIV/0!
A23: 7η Δόση | B23: =E22*$D$7/$D$9 -> #DIV/0! | C23: =D23-B23 -> #DIV/0! | D23: =$D$13 -> #DIV/0! | E23: =E22-C23 -> #DIV/0!
A24: 8η Δόση | B24: =E23*$D$7/$D$9 -> #DIV/0! | C24: =D24-B24 -> #DIV/0! | D24: =$D$13 -> #DIV/0! | E24: =E23-C24 -> #DIV/0!
A25: 9η Δόση | B25: =E24*$D$7/$D$9 -> #DIV/0! | C25: =D25-B25 -> #DIV/0! | D25: =$D$13 -> #DIV/0! | E25: =E24-C25 -> #DIV/0!
A26: 10η Δόση | B26: =E25*$D$7/$D$9 -> #DIV/0! | C26: =D26-B26 -> #DIV/0! | D26: =$D$13 -> #DIV/0! | E26: =E25-C26 -> #DIV/0!
A27: 11η Δόση | B27: =E26*$D$7/$D$9 -> #DIV/0! | C27: =D27-B27 -> #DIV/0! | D27: =$D$13 -> #DIV/0! | E27: =E26-C27 -> #DIV/0!
A28: 12η Δόση | B28: =E27*$D$7/$D$9 -> #DIV/0! | C28: =D28-B28 -> #DIV/0! | D28: =$D$13 -> #DIV/0! | E28: =E27-C28 -> #DIV/0!
... A31: 15η Δόση | B31: =E30*$D$7/$D$9 -> #DIV/0! | C31: =D31-B31 -> #DIV/0! | D31: =$D$13 -> #DIV/0! | E31: =E30-C31 -> #DIV/0!
A37: ΑΝΑΛΥΣΗ ΠΡΟΒΛΕΠΟΜΕΝΩΝ ΔΟΣΕΩΝ ΜΑΚΡΟΠΡΟΘΕΣΜΟΥ ΔΑΝΕΙΟΥ ΕΠΕΝΔΥΣΗΣ (ΣΕ €)
A38: Σταθερό Χρεολύσιο
A39: ΥΨΟΣ ΔΑΝΕΙΟΥ | D39: =D6 -> 0
A40: ΕΠΙΤΟΚΙΟ | D40: 0
A41: ΔΙΑΡΚΕΙΑ ΔΑΝΕΙΟΥ | E41: ΕΤΗ
A42: ΤΡΟΠΟΣ ΕΞΟΦΛΗΣΗΣ(αριθμός δόσεων ανά έτος)
A43: ΠΕΡΙΟΔΟΣ ΧΑΡΙΤΟΣ | E43: ΕΤΗ
A44: ΠΡΟΒΛΕΠΟΜΕΝΟ ΠΟΣΟ ΚΕΦΑΛΑΙΟΠΟΙΗΣΗΣ ΤΟΚΩΝ ΠΕΡ. ΧΑΡΙΤΟΣ
A45: ΠΡΟΒΛΕΠΟΜΕΝΟ ΠΟΣΟ ΠΛΗΡΩΜΗΣ ΤΟΚΩΝ ΠΕΡ. ΧΑΡΙΤΟΣ
A46: ΥΨΟΣ ΧΡΕΟΛΥΤΙΚΗΣ ΔΟΣΗΣ | D46: =(D39+D44)/((D41-D43)*D42) -> #DIV/0!
A48: Α/Α ΔΟΣΗΣ ΑΠΟΠΛΗΡΩΜΗΣ | B48: ΤΟΚΟΣ | C48: ΧΡΕΟΛΥΣΙΟ | D48: ΤΟΚΟΧΡΕΟΛΥΣΙΟ | E48: ΥΠΟΛΟΙΠΟ ΚΕΦΑΛΑΙΟΥ
A49: ΔΑΝΕΙΟ ΜΕ ΚΕΦΑΛΟΠΟΙΗΣΗ ΤΟΚΩΝ ΟΕΡΙΌΔΟΥ ΧΑΡΙΥΟΣ | E49: =D39+D44 -> 0
A50: 1η Δόση | B50: =E49*$D$40/$D$42 -> #DIV/0! | C50: =$D$46 -> #DIV/0! | D50: =B50+C50 -> #DIV/0! | E50: =E49-C50 -> #DIV/0!
A51: 2η Δόση | B51: =E50*$D$40/$D$42 -> #DIV/0! | C51: =$D$46 -> #DIV/0! | D51: =B51+C51 -> #DIV/0! | E51: =E50-C51 -> #DIV/0!
...

Sheet LEASING ΕΠΕΝΔΥΤΙΚΟΥ ΣΧΕΔΙΟΥ
A1: ΑΝΑΛΥΣΗ ΠΡΟΒΛΕΠΟΜΕΝΩΝ ΔΟΣΕΩΝ ΣΥΜΒΑΣΗΣ ΧΡΗΜΑΤΟΔΟΤΙΚΗΣ ΜΙΣΘΩΣΗΣ ΕΠΕΝΔΥΤΙΚΟΥ ΣΧΕΔΙΟΥ (ΣΕ €)
A2: ΠΟΣΟ ΣΥΜΒΑΣΗΣ LEASING (*)
A3: ΔΙΑΡΚΕΙΑ ΣΥΜΒΑΣΗΣ LEASING (ΣΕ ΕΤΗ)
A4: ΑΡΙΘΜΟΣ ΔΟΣΕΩΝ ΕΤΗΣΙΩΣ
A5: ΠΟΣΟ ΔΟΣΗΣ
A8: ΕΤΗΣΙΑ ΠΟΣΑ ΑΠΟΠΛΗΡΩΜΗΣ ΣΥΜΒΑΣΗΣ LEASING ΕΠΕΝΔΥΤΙΚΟΥ ΣΧΕΔΙΟΥ | D8: 1ο ΕΤΟΣ | E8: 2ο ΕΤΟΣ | F8: 3ο ΕΤΟΣ | G8: 4ο ΕΤΟΣ | H8: 5ο ΕΤΟΣ | I8: 6ο ΕΤΟΣ | J8: 7ο ΕΤΟΣ | K8: 8ο ΕΤΟΣ | L8: 9ο ΕΤΟΣ | M8: 10ο ΕΤΟΣ
A9: ΣΥΝΟΛΙΚΟ ΠΟΣΟ ΛΟΓΙΖΟΜΕΝΩΝ ΔΟΣΕΩΝ ΕΤΗΣΙΩΣ
A10: ΠΟΣΟ ΕΤΗΣΙΟΥ ΜΙΣΘΩΜΑΤΟΣ ΠΟΥ ΑΦΟΡΑ ΤΗΝ ΕΞΟΦΛΗΣΗ ΤΗΣ ΑΞΙΑΣ ΚΤΗΣΗΣ (ΧΡΕΟΛΥΣΙΟ)
A11: ΕΝΙΣΧΥΣΗ ΧΡΗΜΑΤΟΔΟΤΙΚΗΣ ΜΙΣΘΩΣΗΣ (*)
A12: Σωρευτικό ΧΡΕΟΛΥΣΙΟ (Τέλος Έτους) | D12: =D10 -> 0 | E12: =D12+E10 -> 0 | F12: =E12+F10 -> 0 | G12: =F12+G10 -> 0 | H12: =G12+H10 -> 0 | I12: =H12+I10 -> 0 | J12: =I12+J10 -> 0 | K12: =J12+K10 -> 0 | L12: =K12+L10 -> 0 | M12: =L12+M10 -> 0
A14: (*) Τα στοιχεία που θα εισαχθούν στα παραπάνω πεδία θα πρέπει να είναι ταυτόσημα με αυτά που έχουν εισαχθεί και υποβληθεί στο Πληροφοριακό Σύστημα Αναπτυξιακών Νόμων (ΠΣ-Αν) στο Βήμα ΙΙΙ "Κόστος - Χρηματοδοτικό Σχήμα".

Sheet ΥΦΙΣΤΑΜΕΝΕΣ ΔΑΝΕΙΑΚΕΣ ΥΠΟΧΡ
A1: Α. ΜΕΣΟΜΑΚΡΟΠΡΟΘΕΣΜΑ ΔΑΝΕΙΑ
A2: ΔΑΝΕΙΟΔΟΤΟΥΣΑ ΤΡΑΠΕΖΑ | B2: Ημερ/νία σύμβασης | C2: Αρχικό ποσό | D2: Άληκτο υπόλοιπο | E2: Διάρκεια | F2: Επιτόκιο * | G2: Ετήσια τοκοχρεωλυτική δόση | I2: 1ο Ετος | J2: 2ο Ετος | K2: 3ο Ετος | L2: 4ο Ετος | M2: 5ο Ετος | N2: 6ο Ετος | O2: 7ο Ετος | P2: 8ο Ετος | Q2: 9ο Ετος | R2: 10ο Ετος | S2: Παρατηρήσεις
H3: ΑΛΗΚΤΟ ΥΠΟΛΟΙΠΟ ΣΤΗΝ ΑΡΧΗ ΕΚΑΣΤΟΥ ΕΤΟΥΣ ΛΕΙΤΟΥΡΓΙΑΣ | J3: =I3-I5 -> 0 | K3: =J3-J5 -> 0 | L3: =K3-K5 -> 0 | M3: =L3-L5 -> 0 | N3: =M3-M5 -> 0 | O3: =N3-N5 -> 0 | P3: =O3-O5 -> 0 | Q3: =P3-P5 -> 0 | R3: =Q3-Q5 -> 0
H4: ΤΟΚΟΣ
H5: ΧΡΕΟΛΥΣΙΟ
H6: ΑΛΗΚΤΟ ΥΠΟΛΟΙΠΟ ΣΤΗΝ ΑΡΧΗ ΕΚΑΣΤΟΥ ΕΤΟΥΣ ΛΕΙΤΟΥΡΓΙΑΣ | J6: =I6-I8 -> 0 | K6: =J6-J8 -> 0 | L6: =K6-K8 -> 0 | M6: =L6-L8 -> 0 | N6: =M6-M8 -> 0 | O6: =N6-N8 -> 0 | P6: =O6-O8 -> 0 | Q6: =P6-P8 -> 0 | R6: =Q6-Q8 -> 0
H7: ΤΟΚΟΣ
H8: ΧΡΕΟΛΥΣΙΟ
H9: ΑΛΗΚΤΟ ΥΠΟΛΟΙΠΟ ΣΤΗΝ ΑΡΧΗ ΕΚΑΣΤΟΥ ΕΤΟΥΣ ΛΕΙΤΟΥΡΓΙΑΣ | J9: =I9-I11 -> 0 | K9: =J9-J11 -> 0 | L9: =K9-K11 -> 0 | M9: =L9-L11 -> 0 | N9: =M9-M11 -> 0 | O9: =N9-N11 -> 0 | P9: =O9-O11 -> 0 | Q9: =P9-P11 -> 0 | R9: =Q9-Q11 -> 0
H10: ΤΟΚΟΣ
H11: ΧΡΕΟΛΥΣΙΟ
A12: ΣΥΝΟΛΑ | H12: ΑΛΗΚΤΟ ΥΠΟΛΟΙΠΟ ΣΤΗΝ ΑΡΧΗ ΕΚΑΣΤΟΥ ΕΤΟΥΣ ΛΕΙΤΟΥΡΓΙΑΣ | I12: =SUM(I3,I6,I9) -> 0 | J12: =SUM(J3,J6,J9) -> 0 | K12: =SUM(K3,K6,K9) -> 0 | L12: =SUM(L3,L6,L9) -> 0 | M12: =SUM(M3,M6,M9) -> 0 | N12: =SUM(N3,N6,N9) -> 0 | O12: =SUM(O3,O6,O9) -> 0 | P12: =SUM(P3,P6,P9) -> 0 | ... R12: =SUM(R3,R6,R9) -> 0
H13: ΤΟΚΟΣ | I13: =SUM(I4,I7,I10) -> 0 | J13: =SUM(J4,J7,J10) -> 0 | K13: =SUM(K4,K7,K10) -> 0 | L13: =SUM(L4,L7,L10) -> 0 | M13: =SUM(M4,M7,M10) -> 0 | N13: =SUM(N4,N7,N10) -> 0 | O13: =SUM(O4,O7,O10) -> 0 | P13: =SUM(P4,P7,P10) -> 0 | ... R13: =SUM(R4,R7,R10) -> 0
H14: ΧΡΕΟΛΥΣΙΟ | I14: =SUM(I5,I8,I11) -> 0 | J14: =SUM(J5,J8,J11) -> 0 | K14: =SUM(K5,K8,K11) -> 0 | L14: =SUM(L5,L8,L11) -> 0 | M14: =SUM(M5,M8,M11) -> 0 | N14: =SUM(N5,N8,N11) -> 0 | O14: =SUM(O5,O8,O11) -> 0 | P14: =SUM(P5,P8,P11) -> 0 | ... R14: =SUM(R5,R8,R11) -> 0
A16: Β. ΒΡΑΧΥΠΡΟΘΕΣΜΑ ΔΑΝΕΙΑ
A17: ΔΑΝΕΙΟΔΟΤΟΥΣΑ ΤΡΑΠΕΖΑ | B17: Ημερ/νία σύμβασης | C17: Τρέχον υπόλοιπο | D17: Επιτόκιο * | I17: 1ο Ετος | J17: 2ο Ετος | K17: 3ο Ετος | L17: 4ο Ετος | M17: 5ο Ετος | N17: 6ο Ετος | O17: 7ο Ετος | P17: 8ο Ετος | Q17: 9ο Ετος | R17: 10ο Ετος | S17: Παρατηρήσεις
H18: ΠΟΣΟ ΔΑΝΕΙΟΥ
H19: ΤΟΚΟΣ
H20: ΠΟΣΟ ΔΑΝΕΙΟΥ
H21: ΤΟΚΟΣ
H22: ΠΟΣΟ ΔΑΝΕΙΟΥ
H23: ΤΟΚΟΣ
A24: ΣΥΝΟΛΑ | H24: ΠΟΣΟ ΔΑΝΕΙΟΥ | I24: =SUM(I18,I20,I22) -> 0 | J24: =SUM(J18,J20,J22) -> 0 | K24: =SUM(K18,K20,K22) -> 0 | L24: =SUM(L18,L20,L22) -> 0 | M24: =SUM(M18,M20,M22) -> 0 | N24: =SUM(N18,N20,N22) -> 0 | O24: =SUM(O18,O20,O22) -> 0 | P24: =SUM(P18,P20,P22) -> 0 | ... R24: =SUM(R18,R20,R22) -> 0
H25: ΤΟΚΟΣ | I25: =SUM(I19,I21,I23) -> 0 | J25: =SUM(J19,J21,J23) -> 0 | K25: =SUM(K19,K21,K23) -> 0 | L25: =SUM(L19,L21,L23) -> 0 | M25: =SUM(M19,M21,M23) -> 0 | N25: =SUM(N19,N21,N23) -> 0 | O25: =SUM(O19,O21,O23) -> 0 | P25: =SUM(P19,P21,P23) -> 0 | ... R25: =SUM(R19,R21,R23) -> 0
A27: ΣΥΝΟΛΙΚΟΙ ΤΟΚΟΙ / ΧΡΕΟΛΥΣΙΑ ΥΦΙΣΤΑΜΕΝΩΝ ΔΑΝΕΙΩΝ | H27: ΤΟΚΟΣ | I27: =I13+I25 -> 0 | J27: =J13+J25 -> 0 | K27: =K13+K25 -> 0 | L27: =L13+L25 -> 0 | M27: =M13+M25 -> 0 | N27: =N13+N25 -> 0 | O27: =O13+O25 -> 0 | P27: =P13+P25 -> 0 | ... R27: =R13+R25 -> 0
H28: ΧΡΕΟΛΥΣΙΟ | I28: =I14 -> 0 | J28: =J14 -> 0 | K28: =K14 -> 0 | L28: =L14 -> 0 | M28: =M14 -> 0 | N28: =N14 -> 0 | O28: =O14 -> 0 | P28: =P14 -> 0 | ... R28: =R14 -> 0
A30: * Στήν περίπτωση κυμαινόμενου επιτοκίου αναγράφεται ο τρόπος υπολογισμού (π.χ. Euribor +1,75%)
A31: Η ενημέρωση του πίνακα δεν πρέπει να απέχει χρονικά πάνω από ένα (1) μήνα απο την υποβολή του επενδυτικού σχεδίου.
A33: Γ. ΥΦΙΣΤΑΜΕΝΕΣ ΣΥΜΒΑΣΕΙΣ LEASING
A34: ΔΑΝΕΙΟΔΟΤΟΥΣΑ ΤΡΑΠΕΖΑ | B34: Ημερ/νία σύμβασης | C34: Ποσό σύμβασης | D34: Τρέχον υπόλοιπο | E34: Διάρκεια | F34: Ετήσιο Μίσθωμα | I34: 1ο Ετος | J34: 2ο Ετος | K34: 3ο Ετος | L34: 4ο Ετος | M34: 5ο Ετος | N34: 6ο Ετος | O34: 7ο Ετος | P34: 8ο Ετος | Q34: 9ο Ετος | R34: 10ο Ετος | S34: Παρατηρήσεις
G35: ΑΛΗΚΤΟ ΥΠΟΛΟΙΠΟ (Αρχή Έτους)
G36: ΕΤΗΣΙΟ ΜΙΣΘΩΜΑ | H36: ΤΟΚΟΣ
H37: ΧΡΕΟΛΥΣΙΟ
G38: ΕΠΙΔΟΤΗΣΗ LEASING
G39: ΑΛΗΚΤΟ ΥΠΟΛΟΙΠΟ (Αρχή Έτους)
G40: ΕΤΗΣΙΟ ΜΙΣΘΩΜΑ | H40: ΤΟΚΟΣ
H41: ΧΡΕΟΛΥΣΙΟ
G42: ΕΠΙΔΟΤΗΣΗ LEASING
G43: ΑΛΗΚΤΟ ΥΠΟΛΟΙΠΟ (Αρχή Έτους)
G44: ΕΤΗΣΙΟ ΜΙΣΘΩΜΑ | H44: ΤΟΚΟΣ
...

Sheet ΞΕΝΑ ΚΕΦΑΛΑΙΑ
A1: ΥΠΟΛΟΓΙΣΜΟΣ ΞΕΝΩΝ ΚΕΦΑΛΑΙΩΝ | B1: 1ο ΕΤΟΣ | C1: 2ο ΕΤΟΣ | D1: 3ο ΕΤΟΣ | E1: 4ο ΕΤΟΣ | F1: 5ο ΕΤΟΣ | G1: 6ο ΕΤΟΣ | H1: 7ο ΕΤΟΣ | I1: 8ο ΕΤΟΣ | J1: 9ο ΕΤΟΣ | K1: 10ο ΕΤΟΣ
A2: Α. ΠΙΣΤΩΣΕΙΣ ΠΡΟΜΗΘΕΥΤΩΝ (ΣΥΝΟΛΙΚΑ ΜΕΤΑ ΤΗΝ ΕΠΕΝΔΥΣΗ) | B2: ='ΚΕΦΑΛΑΙΟ ΚΙΝΗΣΗΣ'!C15 -> 0 | C2: ='ΚΕΦΑΛΑΙΟ ΚΙΝΗΣΗΣ'!D15 -> 0 | D2: ='ΚΕΦΑΛΑΙΟ ΚΙΝΗΣΗΣ'!E15 -> 0 | E2: ='ΚΕΦΑΛΑΙΟ ΚΙΝΗΣΗΣ'!F15 -> 0 | F2: ='ΚΕΦΑΛΑΙΟ ΚΙΝΗΣΗΣ'!G15 -> 0 | G2: ='ΚΕΦΑΛΑΙΟ ΚΙΝΗΣΗΣ'!H15 -> 0 | H2: ='ΚΕΦΑΛΑΙΟ ΚΙΝΗΣΗΣ'!I15 -> 0 | I2: ='ΚΕΦΑΛΑΙΟ ΚΙΝΗΣΗΣ'!J15 -> 0 | ... K2: ='ΚΕΦΑΛΑΙΟ ΚΙΝΗΣΗΣ'!L15 -> 0
A3: ΣΥΝΟΛΙΚΟΣ ΜΑΚΡΟΠΡΟΘΕΣΜΟΣ ΔΑΝΕΙΣΜΟΣ | B3: =AVERAGE('ΥΦΙΣΤΑΜΕΝΕΣ ΔΑΝΕΙΑΚΕΣ ΥΠΟΧΡ'!I12,'ΥΦΙΣΤΑΜΕΝΕΣ ΔΑΝΕΙΑΚΕΣ ΥΠΟΧΡ'!J12)+AVERAGE('ΥΦΙΣΤΑΜΕΝΕΣ ΔΑΝΕΙΑΚΕΣ ΥΠΟΧΡ'!I47,'ΥΦΙΣΤΑΜΕΝΕΣ ΔΑΝΕΙΑΚΕΣ ΥΠΟΧΡ'!J47)+AVERAGE('LEASING ΕΠΕΝΔΥΤΙΚΟΥ ΣΧΕΔΙΟΥ'!$D$2,('LEASING ΕΠΕΝΔΥΤΙΚΟΥ ΣΧΕΔΙΟΥ'!$D$2-'LEASING ΕΠΕΝΔΥΤΙΚΟΥ ΣΧΕΔΙΟΥ'!D12))+AVERAGE('ΜΑΚΡΟΠΡΟΘΕΣΜΟ ΔΑΝΕΙΟ '!$D$2,('ΜΑΚΡΟΠΡΟΘΕΣΜΟ ΔΑΝΕΙΟ '!$D$2-'ΜΑΚΡΟΠΡΟΘΕΣΜΟ ΔΑΝΕΙΟ '!B77)) -> 0 | C3: =AVERAGE('ΥΦΙΣΤΑΜΕΝΕΣ ΔΑΝΕΙΑΚΕΣ ΥΠΟΧΡ'!J12,'ΥΦΙΣΤΑΜΕΝΕΣ ΔΑΝΕΙΑΚΕΣ ΥΠΟΧΡ'!K12)+AVERAGE('ΥΦΙΣΤΑΜΕΝΕΣ ΔΑΝΕΙΑΚΕΣ ΥΠΟΧΡ'!J47,'ΥΦΙΣΤΑΜΕΝΕΣ ΔΑΝΕΙΑΚΕΣ ΥΠΟΧΡ'!K47)+AVERAGE('LEASING ΕΠΕΝΔΥΤΙΚΟΥ ΣΧΕΔΙΟΥ'!$D$2,('LEASING ΕΠΕΝΔΥΤΙΚΟΥ ΣΧΕΔΙΟΥ'!$D$2-'LEASING ΕΠΕΝΔΥΤΙΚΟΥ ΣΧΕΔΙΟΥ'!E12))+AVERAGE('ΜΑΚΡΟΠΡΟΘΕΣΜΟ ΔΑΝΕΙΟ '!$D$2,('ΜΑΚΡΟΠΡΟΘΕΣΜΟ ΔΑΝΕΙΟ '!$D$2-'ΜΑΚΡΟΠΡΟΘΕΣΜΟ ΔΑΝΕΙΟ '!C77)) -> 0 | D3: =AVERAGE('ΥΦΙΣΤΑΜΕΝΕΣ ΔΑΝΕΙΑΚΕΣ ΥΠΟΧΡ'!K12,'ΥΦΙΣΤΑΜΕΝΕΣ ΔΑΝΕΙΑΚΕΣ ΥΠΟΧΡ'!L12)+AVERAGE('ΥΦΙΣΤΑΜΕΝΕΣ ΔΑΝΕΙΑΚΕΣ ΥΠΟΧΡ'!K47,'ΥΦΙΣΤΑΜΕΝΕΣ ΔΑΝΕΙΑΚΕΣ ΥΠΟΧΡ'!L47)+AVERAGE('LEASING ΕΠΕΝΔΥΤΙΚΟΥ ΣΧΕΔΙΟΥ'!$D$2,('LEASING ΕΠΕΝΔΥΤΙΚΟΥ ΣΧΕΔΙΟΥ'!$D$2-'LEASING ΕΠΕΝΔΥΤΙΚΟΥ ΣΧΕΔΙΟΥ'!F12))+AVERAGE('ΜΑΚΡΟΠΡΟΘΕΣΜΟ ΔΑΝΕΙΟ '!$D$2,('ΜΑΚΡΟΠΡΟΘΕΣΜΟ ΔΑΝΕΙΟ '!$D$2-'ΜΑΚΡΟΠΡΟΘΕΣΜΟ ΔΑΝΕΙΟ '!D77)) -> 0 | E3: =AVERAGE('ΥΦΙΣΤΑΜΕΝΕΣ ΔΑΝΕΙΑΚΕΣ ΥΠΟΧΡ'!L12,'ΥΦΙΣΤΑΜΕΝΕΣ ΔΑΝΕΙΑΚΕΣ ΥΠΟΧΡ'!M12)+AVERAGE('ΥΦΙΣΤΑΜΕΝΕΣ ΔΑΝΕΙΑΚΕΣ ΥΠΟΧΡ'!L47,'ΥΦΙΣΤΑΜΕΝΕΣ ΔΑΝΕΙΑΚΕΣ ΥΠΟΧΡ'!M47)+AVERAGE('LEASING ΕΠΕΝΔΥΤΙΚΟΥ ΣΧΕΔΙΟΥ'!$D$2,('LEASING ΕΠΕΝΔΥΤΙΚΟΥ ΣΧΕΔΙΟΥ'!$D$2-'LEASING ΕΠΕΝΔΥΤΙΚΟΥ ΣΧΕΔΙΟΥ'!G12))+AVERAGE('ΜΑΚΡΟΠΡΟΘΕΣΜΟ ΔΑΝΕΙΟ '!$D$2,('ΜΑΚΡΟΠΡΟΘΕΣΜΟ ΔΑΝΕΙΟ '!$D$2-'ΜΑΚΡΟΠΡΟΘΕΣΜΟ ΔΑΝΕΙΟ '!E77)) -> 0 | F3: =AVERAGE('ΥΦΙΣΤΑΜΕΝΕΣ ΔΑΝΕΙΑΚΕΣ ΥΠΟΧΡ'!M12,'ΥΦΙΣΤΑΜΕΝΕΣ ΔΑΝΕΙΑΚΕΣ ΥΠΟΧΡ'!N12)+AVERAGE('ΥΦΙΣΤΑΜΕΝΕΣ ΔΑΝΕΙΑΚΕΣ ΥΠΟΧΡ'!M47,'ΥΦΙΣΤΑΜΕΝΕΣ ΔΑΝΕΙΑΚΕΣ ΥΠΟΧΡ'!N47)+AVERAGE('LEASING ΕΠΕΝΔΥΤΙΚΟΥ ΣΧΕΔΙΟΥ'!$D$2,('LEASING ΕΠΕΝΔΥΤΙΚΟΥ ΣΧΕΔΙΟΥ'!$D$2-'LEASING ΕΠΕΝΔΥΤΙΚΟΥ ΣΧΕΔΙΟΥ'!H12))+AVERAGE('ΜΑΚΡΟΠΡΟΘΕΣΜΟ ΔΑΝΕΙΟ '!$D$2,('ΜΑΚΡΟΠΡΟΘΕΣΜΟ ΔΑΝΕΙΟ '!$D$2-'ΜΑΚΡΟΠΡΟΘΕΣΜΟ ΔΑΝΕΙΟ '!F77)) -> 0 | G3: =AVERAGE('ΥΦΙΣΤΑΜΕΝΕΣ ΔΑΝΕΙΑΚΕΣ ΥΠΟΧΡ'!N12,'ΥΦΙΣΤΑΜΕΝΕΣ ΔΑΝΕΙΑΚΕΣ ΥΠΟΧΡ'!O12)+AVERAGE('ΥΦΙΣΤΑΜΕΝΕΣ ΔΑΝΕΙΑΚΕΣ ΥΠΟΧΡ'!N47,'ΥΦΙΣΤΑΜΕΝΕΣ ΔΑΝΕΙΑΚΕΣ ΥΠΟΧΡ'!O47)+AVERAGE('LEASING ΕΠΕΝΔΥΤΙΚΟΥ ΣΧΕΔΙΟΥ'!$D$2,('LEASING ΕΠΕΝΔΥΤΙΚΟΥ ΣΧΕΔΙΟΥ'!$D$2-'LEASING ΕΠΕΝΔΥΤΙΚΟΥ ΣΧΕΔΙΟΥ'!I12))+AVERAGE('ΜΑΚΡΟΠΡΟΘΕΣΜΟ ΔΑΝΕΙΟ '!$D$2,('ΜΑΚΡΟΠΡΟΘΕΣΜΟ ΔΑΝΕΙΟ '!$D$2-'ΜΑΚΡΟΠΡΟΘΕΣΜΟ ΔΑΝΕΙΟ '!G77)) -> 0 | H3: =AVERAGE('ΥΦΙΣΤΑΜΕΝΕΣ ΔΑΝΕΙΑΚΕΣ ΥΠΟΧΡ'!O12,'ΥΦΙΣΤΑΜΕΝΕΣ ΔΑΝΕΙΑΚΕΣ ΥΠΟΧΡ'!P12)+AVERAGE('ΥΦΙΣΤΑΜΕΝΕΣ ΔΑΝΕΙΑΚΕΣ ΥΠΟΧΡ'!O47,'ΥΦΙΣΤΑΜΕΝΕΣ ΔΑΝΕΙΑΚΕΣ ΥΠΟΧΡ'!P47)+AVERAGE('LEASING ΕΠΕΝΔΥΤΙΚΟΥ ΣΧΕΔΙΟΥ'!$D$2,('LEASING ΕΠΕΝΔΥΤΙΚΟΥ ΣΧΕΔΙΟΥ'!$D$2-'LEASING ΕΠΕΝΔΥΤΙΚΟΥ ΣΧΕΔΙΟΥ'!J12))+AVERAGE('ΜΑΚΡΟΠΡΟΘΕΣΜΟ ΔΑΝΕΙΟ '!$D$2,('ΜΑΚΡΟΠΡΟΘΕΣΜΟ ΔΑΝΕΙΟ '!$D$2-'ΜΑΚΡΟΠΡΟΘΕΣΜΟ ΔΑΝΕΙΟ '!H77)) -> 0 | I3: =AVERAGE('ΥΦΙΣΤΑΜΕΝΕΣ ΔΑΝΕΙΑΚΕΣ ΥΠΟΧΡ'!P12,'ΥΦΙΣΤΑΜΕΝΕΣ ΔΑΝΕΙΑΚΕΣ ΥΠΟΧΡ'!Q12)+AVERAGE('ΥΦΙΣΤΑΜΕΝΕΣ ΔΑΝΕΙΑΚΕΣ ΥΠΟΧΡ'!P47,'ΥΦΙΣΤΑΜΕΝΕΣ ΔΑΝΕΙΑΚΕΣ ΥΠΟΧΡ'!Q47)+AVERAGE('LEASING ΕΠΕΝΔΥΤΙΚΟΥ ΣΧΕΔΙΟΥ'!$D$2,('LEASING ΕΠΕΝΔΥΤΙΚΟΥ ΣΧΕΔΙΟΥ'!$D$2-'LEASING ΕΠΕΝΔΥΤΙΚΟΥ ΣΧΕΔΙΟΥ'!K12))+AVERAGE('ΜΑΚΡΟΠΡΟΘΕΣΜΟ ΔΑΝΕΙΟ '!$D$2,('ΜΑΚΡΟΠΡΟΘΕΣΜΟ ΔΑΝΕΙΟ '!$D$2-'ΜΑΚΡΟΠΡΟΘΕΣΜΟ ΔΑΝΕΙΟ '!I77)) -> 0 | ... K3: =AVERAGE('ΥΦΙΣΤΑΜΕΝΕΣ ΔΑΝΕΙΑΚΕΣ ΥΠΟΧΡ'!R12,'ΥΦΙΣΤΑΜΕΝΕΣ ΔΑΝΕΙΑΚΕΣ ΥΠΟΧΡ'!S12)+AVERAGE('ΥΦΙΣΤΑΜΕΝΕΣ ΔΑΝΕΙΑΚΕΣ ΥΠΟΧΡ'!R47,'ΥΦΙΣΤΑΜΕΝΕΣ ΔΑΝΕΙΑΚΕΣ ΥΠΟΧΡ'!S47)+AVERAGE('LEASING ΕΠΕΝΔΥΤΙΚΟΥ ΣΧΕΔΙΟΥ'!$D$2,('LEASING ΕΠΕΝΔΥΤΙΚΟΥ ΣΧΕΔΙΟΥ'!$D$2-'LEASING ΕΠΕΝΔΥΤΙΚΟΥ ΣΧΕΔΙΟΥ'!M12))+AVERAGE('ΜΑΚΡΟΠΡΟΘΕΣΜΟ ΔΑΝΕΙΟ '!$D$2,('ΜΑΚΡΟΠΡΟΘΕΣΜΟ ΔΑΝΕΙΟ '!$D$2-'ΜΑΚΡΟΠΡΟΘΕΣΜΟ ΔΑΝΕΙΟ '!K77)) -> 0
A4: ΣΥΝΟΛΙΚΟΣ ΒΡΑΧΥΠΡΟΘΕΣΜΟΣ ΔΑΝΕΙΣΜΟΣ | B4: ='ΚΕΦΑΛΑΙΟ ΚΙΝΗΣΗΣ'!C27+'ΥΦΙΣΤΑΜΕΝΕΣ ΔΑΝΕΙΑΚΕΣ ΥΠΟΧΡ'!I24 -> 0 | C4: ='ΚΕΦΑΛΑΙΟ ΚΙΝΗΣΗΣ'!D27+'ΥΦΙΣΤΑΜΕΝΕΣ ΔΑΝΕΙΑΚΕΣ ΥΠΟΧΡ'!J24 -> 0 | D4: ='ΚΕΦΑΛΑΙΟ ΚΙΝΗΣΗΣ'!E27+'ΥΦΙΣΤΑΜΕΝΕΣ ΔΑΝΕΙΑΚΕΣ ΥΠΟΧΡ'!K24 -> 0 | E4: ='ΚΕΦΑΛΑΙΟ ΚΙΝΗΣΗΣ'!F27+'ΥΦΙΣΤΑΜΕΝΕΣ ΔΑΝΕΙΑΚΕΣ ΥΠΟΧΡ'!L24 -> 0 | F4: ='ΚΕΦΑΛΑΙΟ ΚΙΝΗΣΗΣ'!G27+'ΥΦΙΣΤΑΜΕΝΕΣ ΔΑΝΕΙΑΚΕΣ ΥΠΟΧΡ'!M24 -> 0 | G4: ='ΚΕΦΑΛΑΙΟ ΚΙΝΗΣΗΣ'!H27+'ΥΦΙΣΤΑΜΕΝΕΣ ΔΑΝΕΙΑΚΕΣ ΥΠΟΧΡ'!N24 -> 0 | H4: ='ΚΕΦΑΛΑΙΟ ΚΙΝΗΣΗΣ'!I27+'ΥΦΙΣΤΑΜΕΝΕΣ ΔΑΝΕΙΑΚΕΣ ΥΠΟΧΡ'!O24 -> 0 | I4: ='ΚΕΦΑΛΑΙΟ ΚΙΝΗΣΗΣ'!J27+'ΥΦΙΣΤΑΜΕΝΕΣ ΔΑΝΕΙΑΚΕΣ ΥΠΟΧΡ'!P24 -> 0 | ... K4: ='ΚΕΦΑΛΑΙΟ ΚΙΝΗΣΗΣ'!L27+'ΥΦΙΣΤΑΜΕΝΕΣ ΔΑΝΕΙΑΚΕΣ ΥΠΟΧΡ'!R24 -> 0
A5: Β. ΣΥΝΟΛΟ ΔΑΝΕΙΑΚΩΝ ΚΕΦΑΛΑΙΩΝ | B5: =SUM(B3:B4) -> 0 | C5: =SUM(C3:C4) -> 0 | D5: =SUM(D3:D4) -> 0 | E5: =SUM(E3:E4) -> 0 | F5: =SUM(F3:F4) -> 0 | G5: =SUM(G3:G4) -> 0 | H5: =SUM(H3:H4) -> 0 | I5: =SUM(I3:I4) -> 0 | ... K5: =SUM(K3:K4) -> 0
A6: ΣΥΝΟΛΟ ΞΕΝΩΝ ΚΕΦΑΛΑΙΩΝ (Α + Β) | B6: =SUM(B5,B2) -> 0 | C6: =SUM(C5,C2) -> 0 | D6: =SUM(D5,D2) -> 0 | E6: =SUM(E5,E2) -> 0 | F6: =SUM(F5,F2) -> 0 | G6: =SUM(G5,G2) -> 0 | H6: =SUM(H5,H2) -> 0 | I6: =SUM(I5,I2) -> 0 | ... K6: =SUM(K5,K2) -> 0

Sheet ΤΟΚΟΧΡΕΟΛΥΣΙΑ ΔΑΝΕΙΩΝ
A1: ΥΠΟΛΟΓΙΣΜΟΣ ΤΟΚΟΧΡΕΟΛΥΣΙΩΝ ΔΑΝΕΙΩΝ (συμπεριλαμβανομένων των μισθωμάτων leasing) | B1: 1ο ΕΤΟΣ | C1: 2ο ΕΤΟΣ | D1: 3ο ΕΤΟΣ | E1: 4ο ΕΤΟΣ | F1: 5ο ΕΤΟΣ | G1: 6ο ΕΤΟΣ | H1: 7ο ΕΤΟΣ | I1: 8ο ΕΤΟΣ | J1: 9ο ΕΤΟΣ | K1: 10ο ΕΤΟΣ
A2: ΧΡΕΟΛΥΣΙΑ ΥΦΙΣΤΑΜΕΝΩΝ ΜΑΚΡΟΠΡΟΘΕΣΜΩΝ ΔΑΝΕΙΩΝ | B2: ='ΥΦΙΣΤΑΜΕΝΕΣ ΔΑΝΕΙΑΚΕΣ ΥΠΟΧΡ'!I14 -> 0 | C2: ='ΥΦΙΣΤΑΜΕΝΕΣ ΔΑΝΕΙΑΚΕΣ ΥΠΟΧΡ'!J14 -> 0 | D2: ='ΥΦΙΣΤΑΜΕΝΕΣ ΔΑΝΕΙΑΚΕΣ ΥΠΟΧΡ'!K14 -> 0 | E2: ='ΥΦΙΣΤΑΜΕΝΕΣ ΔΑΝΕΙΑΚΕΣ ΥΠΟΧΡ'!L14 -> 0 | F2: ='ΥΦΙΣΤΑΜΕΝΕΣ ΔΑΝΕΙΑΚΕΣ ΥΠΟΧΡ'!M14 -> 0 | G2: ='ΥΦΙΣΤΑΜΕΝΕΣ ΔΑΝΕΙΑΚΕΣ ΥΠΟΧΡ'!N14 -> 0 | H2: ='ΥΦΙΣΤΑΜΕΝΕΣ ΔΑΝΕΙΑΚΕΣ ΥΠΟΧΡ'!O14 -> 0 | I2: ='ΥΦΙΣΤΑΜΕΝΕΣ ΔΑΝΕΙΑΚΕΣ ΥΠΟΧΡ'!P14 -> 0 | ... K2: ='ΥΦΙΣΤΑΜΕΝΕΣ ΔΑΝΕΙΑΚΕΣ ΥΠΟΧΡ'!R14 -> 0
A3: ΧΡΕΟΛΥΣΙΑ ΝΕΩΝ ΜΑΚΡΟΠΡΟΘΕΣΜΩΝ ΔΑΝΕΙΩΝ ΕΠΕΝΔΥΤΙΚΟΥ ΣΧΕΔΙΟΥ | B3: ='ΜΑΚΡΟΠΡΟΘΕΣΜΟ ΔΑΝΕΙΟ '!B75 -> 0 | C3: ='ΜΑΚΡΟΠΡΟΘΕΣΜΟ ΔΑΝΕΙΟ '!C75 -> 0 | D3: ='ΜΑΚΡΟΠΡΟΘΕΣΜΟ ΔΑΝΕΙΟ '!D75 -> 0 | E3: ='ΜΑΚΡΟΠΡΟΘΕΣΜΟ ΔΑΝΕΙΟ '!E75 -> 0 | F3: ='ΜΑΚΡΟΠΡΟΘΕΣΜΟ ΔΑΝΕΙΟ '!F75 -> 0 | G3: ='ΜΑΚΡΟΠΡΟΘΕΣΜΟ ΔΑΝΕΙΟ '!G75 -> 0 | H3: ='ΜΑΚΡΟΠΡΟΘΕΣΜΟ ΔΑΝΕΙΟ '!H75 -> 0 | I3: ='ΜΑΚΡΟΠΡΟΘΕΣΜΟ ΔΑΝΕΙΟ '!I75 -> 0 | ... K3: ='ΜΑΚΡΟΠΡΟΘΕΣΜΟ ΔΑΝΕΙΟ '!K75 -> 0
A4: ΤΟΚΟΙ ΥΦΙΣΤΑΜΕΝΩΝ ΜΑΚΡΟΠΡΟΘΕΣΜΩΝ ΔΑΝΕΙΩΝ | B4: ='ΥΦΙΣΤΑΜΕΝΕΣ ΔΑΝΕΙΑΚΕΣ ΥΠΟΧΡ'!I13 -> 0 | C4: ='ΥΦΙΣΤΑΜΕΝΕΣ ΔΑΝΕΙΑΚΕΣ ΥΠΟΧΡ'!J13 -> 0 | D4: ='ΥΦΙΣΤΑΜΕΝΕΣ ΔΑΝΕΙΑΚΕΣ ΥΠΟΧΡ'!K13 -> 0 | E4: ='ΥΦΙΣΤΑΜΕΝΕΣ ΔΑΝΕΙΑΚΕΣ ΥΠΟΧΡ'!L13 -> 0 | F4: ='ΥΦΙΣΤΑΜΕΝΕΣ ΔΑΝΕΙΑΚΕΣ ΥΠΟΧΡ'!M13 -> 0 | G4: ='ΥΦΙΣΤΑΜΕΝΕΣ ΔΑΝΕΙΑΚΕΣ ΥΠΟΧΡ'!N13 -> 0 | H4: ='ΥΦΙΣΤΑΜΕΝΕΣ ΔΑΝΕΙΑΚΕΣ ΥΠΟΧΡ'!O13 -> 0 | I4: ='ΥΦΙΣΤΑΜΕΝΕΣ ΔΑΝΕΙΑΚΕΣ ΥΠΟΧΡ'!P13 -> 0 | ... K4: ='ΥΦΙΣΤΑΜΕΝΕΣ ΔΑΝΕΙΑΚΕΣ ΥΠΟΧΡ'!R13 -> 0
A5: ΤΟΚΟΙ ΜΑΚΡΟΠΡΟΘΕΣΜΟΥ ΔΑΝΕΙΟΥ ΕΠΕΝΔΥΤΙΚΟΥ ΣΧΕΔΙΟΥ | B5: ='ΜΑΚΡΟΠΡΟΘΕΣΜΟ ΔΑΝΕΙΟ '!B74 -> 0 | C5: ='ΜΑΚΡΟΠΡΟΘΕΣΜΟ ΔΑΝΕΙΟ '!C74 -> 0 | D5: ='ΜΑΚΡΟΠΡΟΘΕΣΜΟ ΔΑΝΕΙΟ '!D74 -> 0 | E5: ='ΜΑΚΡΟΠΡΟΘΕΣΜΟ ΔΑΝΕΙΟ '!E74 -> 0 | F5: ='ΜΑΚΡΟΠΡΟΘΕΣΜΟ ΔΑΝΕΙΟ '!F74 -> 0 | G5: ='ΜΑΚΡΟΠΡΟΘΕΣΜΟ ΔΑΝΕΙΟ '!G74 -> 0 | H5: ='ΜΑΚΡΟΠΡΟΘΕΣΜΟ ΔΑΝΕΙΟ '!H74 -> 0 | I5: ='ΜΑΚΡΟΠΡΟΘΕΣΜΟ ΔΑΝΕΙΟ '!I74 -> 0 | ... K5: ='ΜΑΚΡΟΠΡΟΘΕΣΜΟ ΔΑΝΕΙΟ '!K74 -> 0
A6: ΤΟΚΟΙ ΓΙΑ ΚΕΦ. ΚΙΝΗΣΗΣ ΜΕΤΑ ΤΗΝ ΕΠΕΝΔΥΣΗ | B6: ='ΚΕΦΑΛΑΙΟ ΚΙΝΗΣΗΣ'!C29 -> 0 | C6: ='ΚΕΦΑΛΑΙΟ ΚΙΝΗΣΗΣ'!D29 -> 0 | D6: ='ΚΕΦΑΛΑΙΟ ΚΙΝΗΣΗΣ'!E29 -> 0 | E6: ='ΚΕΦΑΛΑΙΟ ΚΙΝΗΣΗΣ'!F29 -> 0 | F6: ='ΚΕΦΑΛΑΙΟ ΚΙΝΗΣΗΣ'!G29 -> 0 | G6: ='ΚΕΦΑΛΑΙΟ ΚΙΝΗΣΗΣ'!H29 -> 0 | H6: ='ΚΕΦΑΛΑΙΟ ΚΙΝΗΣΗΣ'!I29 -> 0 | I6: ='ΚΕΦΑΛΑΙΟ ΚΙΝΗΣΗΣ'!J29 -> 0 | ... K6: ='ΚΕΦΑΛΑΙΟ ΚΙΝΗΣΗΣ'!L29 -> 0
A7: ΕΤΗΣΙΑ ΜΕΤΑΒΟΛΗ ΒΡΑΧΥΠΡΟΘΕΣΜΟY ΔΑΝΕΙΣΜΟY | B7: ='ΚΕΦΑΛΑΙΟ ΚΙΝΗΣΗΣ'!C27 -> 0 | C7: ='ΚΕΦΑΛΑΙΟ ΚΙΝΗΣΗΣ'!D27-'ΚΕΦΑΛΑΙΟ ΚΙΝΗΣΗΣ'!C27 -> 0 | D7: ='ΚΕΦΑΛΑΙΟ ΚΙΝΗΣΗΣ'!E27-'ΚΕΦΑΛΑΙΟ ΚΙΝΗΣΗΣ'!D27 -> 0 | E7: ='ΚΕΦΑΛΑΙΟ ΚΙΝΗΣΗΣ'!F27-'ΚΕΦΑΛΑΙΟ ΚΙΝΗΣΗΣ'!E27 -> 0 | F7: ='ΚΕΦΑΛΑΙΟ ΚΙΝΗΣΗΣ'!G27-'ΚΕΦΑΛΑΙΟ ΚΙΝΗΣΗΣ'!F27 -> 0 | G7: ='ΚΕΦΑΛΑΙΟ ΚΙΝΗΣΗΣ'!H27-'ΚΕΦΑΛΑΙΟ ΚΙΝΗΣΗΣ'!G27 -> 0 | H7: ='ΚΕΦΑΛΑΙΟ ΚΙΝΗΣΗΣ'!I27-'ΚΕΦΑΛΑΙΟ ΚΙΝΗΣΗΣ'!H27 -> 0 | I7: ='ΚΕΦΑΛΑΙΟ ΚΙΝΗΣΗΣ'!J27-'ΚΕΦΑΛΑΙΟ ΚΙΝΗΣΗΣ'!I27 -> 0 | J7: ='ΚΕΦΑΛΑΙΟ ΚΙΝΗΣΗΣ'!K27-'ΚΕΦΑΛΑΙΟ ΚΙΝΗΣΗΣ'!J27 -> 0 | K7: ='ΚΕΦΑΛΑΙΟ ΚΙΝΗΣΗΣ'!L27-'ΚΕΦΑΛΑΙΟ ΚΙΝΗΣΗΣ'!K27 -> 0
A8: ΜΙΣΘΩΜΑΤΑ ΥΦΙΣΤΑΜΕΝΩΝ ΣΥΜΒΑΣΕΩΝ LEASING | B8: ='ΥΦΙΣΤΑΜΕΝΕΣ ΔΑΝΕΙΑΚΕΣ ΥΠΟΧΡ'!I47 -> 0 | C8: ='ΥΦΙΣΤΑΜΕΝΕΣ ΔΑΝΕΙΑΚΕΣ ΥΠΟΧΡ'!J47 -> 0 | D8: ='ΥΦΙΣΤΑΜΕΝΕΣ ΔΑΝΕΙΑΚΕΣ ΥΠΟΧΡ'!K47 -> 0 | E8: ='ΥΦΙΣΤΑΜΕΝΕΣ ΔΑΝΕΙΑΚΕΣ ΥΠΟΧΡ'!L47 -> 0 | F8: ='ΥΦΙΣΤΑΜΕΝΕΣ ΔΑΝΕΙΑΚΕΣ ΥΠΟΧΡ'!M47 -> 0 | G8: ='ΥΦΙΣΤΑΜΕΝΕΣ ΔΑΝΕΙΑΚΕΣ ΥΠΟΧΡ'!N47 -> 0 | H8: ='ΥΦΙΣΤΑΜΕΝΕΣ ΔΑΝΕΙΑΚΕΣ ΥΠΟΧΡ'!O47 -> 0 | I8: ='ΥΦΙΣΤΑΜΕΝΕΣ ΔΑΝΕΙΑΚΕΣ ΥΠΟΧΡ'!P47 -> 0 | ... K8: ='ΥΦΙΣΤΑΜΕΝΕΣ ΔΑΝΕΙΑΚΕΣ ΥΠΟΧΡ'!R47 -> 0
A9: ΜΙΣΘΩΜΑΤΑ ΣΥΜΒΑΣΗΣ LEASING ΕΠΕΝΔΥΣΗΣ | B9: ='LEASING ΕΠΕΝΔΥΤΙΚΟΥ ΣΧΕΔΙΟΥ'!D9 -> 0 | C9: ='LEASING ΕΠΕΝΔΥΤΙΚΟΥ ΣΧΕΔΙΟΥ'!E9 -> 0 | D9: ='LEASING ΕΠΕΝΔΥΤΙΚΟΥ ΣΧΕΔΙΟΥ'!F9 -> 0 | E9: ='LEASING ΕΠΕΝΔΥΤΙΚΟΥ ΣΧΕΔΙΟΥ'!G9 -> 0 | F9: ='LEASING ΕΠΕΝΔΥΤΙΚΟΥ ΣΧΕΔΙΟΥ'!H9 -> 0 | G9: ='LEASING ΕΠΕΝΔΥΤΙΚΟΥ ΣΧΕΔΙΟΥ'!I9 -> 0 | H9: ='LEASING ΕΠΕΝΔΥΤΙΚΟΥ ΣΧΕΔΙΟΥ'!J9 -> 0 | I9: ='LEASING ΕΠΕΝΔΥΤΙΚΟΥ ΣΧΕΔΙΟΥ'!K9 -> 0 | ... K9: ='LEASING ΕΠΕΝΔΥΤΙΚΟΥ ΣΧΕΔΙΟΥ'!M9 -> 0
A10: ΣΥΝΟΛΟ ΤΟΚΟΧΡΕΩΛΥΣΙΩΝ (συμπεριλαμβανομένων των μισθωμάτων leasing) | B10: =SUM(B2:B9) -> 0 | C10: =SUM(C2:C9) -> 0 | D10: =SUM(D2:D9) -> 0 | E10: =SUM(E2:E9) -> 0 | F10: =SUM(F2:F9) -> 0 | G10: =SUM(G2:G9) -> 0 | H10: =SUM(H2:H9) -> 0 | I10: =SUM(I2:I9) -> 0 | ... K10: =SUM(K2:K9) -> 0
A13: Ύψος Βραχυπρόθεσμου δανεισμού του έτους που προηγείται του 1ου χρόνου λειτουργίας της επένδυσης:

Sheet ΑΠΟΣΒΕΣΕΙΣ
B1: ΕΠΙΛΕΞΙΜΟ ΚΟΣΤΟΣ | C1: ΣΥΝΤΕΛΕΣΤΗΣ ΑΠΟΣΒΕΣΗΣ (%) | D1: 1ο Ετος | E1: 2ο Ετος | F1: 3ο Ετος | G1: 4ο Ετος | H1: 5ο Ετος | I1: 6ο Ετος | J1: 7ο Ετος | K1: 8ο Ετος | L1: 9ο Ετος | M1: 10ο Ετος
A2: 1. ΑΠΟΣΒΕΣΕΙΣ ΠΑΓΙΩΝ ΕΠΕΝΔΥΤΙΚΟΥ ΣΧΕΔΙΟΥ | D2: 1 | E2: 2 | F2: 3 | G2: 4 | H2: 5 | I2: 6 | J2: 7 | K2: 8 | L2: 9 | M2: 10
A3: Α. ΑΡΧΙΚΗ ΕΠΕΝΔΥΣΗ ΓΙΑ ΕΝΙΣΧΥΣΕΙΣ ΠΕΡΙΦΕΡΕΙΑΚΟΥ ΧΑΡΑΚΤΗΡΑ
A4: ΚΤΗΡΙΑΚΑ - ΕΓΚΑΤΑΣΤΑΣΕΙΣ ΚΤΗΡΙΩΝ | B4: =ΚΟΣΤΟΣ!C7 -> 0 | D4: =$C4*$B4 -> 0 | E4: =IF(($C4*$B4*E$2)<=$B4,$C4*$B4,0) -> 0 | F4: =IF(($C4*$B4*F$2)<=$B4,$C4*$B4,0) -> 0 | G4: =IF(($C4*$B4*G$2)<=$B4,$C4*$B4,0) -> 0 | H4: =IF(($C4*$B4*H$2)<=$B4,$C4*$B4,0) -> 0 | I4: =IF(($C4*$B4*I$2)<=$B4,$C4*$B4,0) -> 0 | J4: =IF(($C4*$B4*J$2)<=$B4,$C4*$B4,0) -> 0 | K4: =IF(($C4*$B4*K$2)<=$B4,$C4*$B4,0) -> 0 | L4: =IF(($C4*$B4*L$2)<=$B4,$C4*$B4,0) -> 0 | M4: =IF(($C4*$B4*M$2)<=$B4,$C4*$B4,0) -> 0
A5: ΤΕΧΝΙΚΑ ΕΡΓΑ (ΕΡΓΑ ΥΠΟΔΟΜΗΣ ΚΑΙ ΕΡΓΑ ΔΙΑΜΟΡΦΩΣΗΣ ΠΕΡΙΒΑΛΛΟΝΤΟΣ ΧΩΡΟΥ ) | B5: =ΚΟΣΤΟΣ!C8 -> 0 | D5: =$C5*$B5 -> 0 | E5: =IF(($C5*$B5*E$2)<=$B5,$C5*$B5,0) -> 0 | F5: =IF(($C5*$B5*F$2)<=$B5,$C5*$B5,0) -> 0 | G5: =IF(($C5*$B5*G$2)<=$B5,$C5*$B5,0) -> 0 | H5: =IF(($C5*$B5*H$2)<=$B5,$C5*$B5,0) -> 0 | I5: =IF(($C5*$B5*I$2)<=$B5,$C5*$B5,0) -> 0 | J5: =IF(($C5*$B5*J$2)<=$B5,$C5*$B5,0) -> 0 | K5: =IF(($C5*$B5*K$2)<=$B5,$C5*$B5,0) -> 0 | L5: =IF(($C5*$B5*L$2)<=$B5,$C5*$B5,0) -> 0 | M5: =IF(($C5*$B5*M$2)<=$B5,$C5*$B5,0) -> 0
A6: ΜΗΧΑΝΗΜΑΤΑ - ΛΟΙΠΟΣ ΜΗΧΑΝΟΛΟΓΙΚΟΣ ΕΞΟΠΛΙΣΜΟΣ - ΤΕΧΝΙΚΕΣ ΕΓΚΑΤΑΣΤΑΣΕΙΣ | B6: =ΚΟΣΤΟΣ!C9 -> 0 | D6: =$C6*$B6 -> 0 | E6: =IF(($C6*$B6*E$2)<=$B6,$C6*$B6,0) -> 0 | F6: =IF(($C6*$B6*F$2)<=$B6,$C6*$B6,0) -> 0 | G6: =IF(($C6*$B6*G$2)<=$B6,$C6*$B6,0) -> 0 | H6: =IF(($C6*$B6*H$2)<=$B6,$C6*$B6,0) -> 0 | I6: =IF(($C6*$B6*I$2)<=$B6,$C6*$B6,0) -> 0 | J6: =IF(($C6*$B6*J$2)<=$B6,$C6*$B6,0) -> 0 | K6: =IF(($C6*$B6*K$2)<=$B6,$C6*$B6,0) -> 0 | L6: =IF(($C6*$B6*L$2)<=$B6,$C6*$B6,0) -> 0 | M6: =IF(($C6*$B6*M$2)<=$B6,$C6*$B6,0) -> 0
B7: =ΚΟΣΤΟΣ!C12 -> 0 | D7: =$C7*$B7 -> 0 | E7: =IF(($C7*$B7*E$2)<=$B7,$C7*$B7,0) -> 0 | F7: =IF(($C7*$B7*F$2)<=$B7,$C7*$B7,0) -> 0 | G7: =IF(($C7*$B7*G$2)<=$B7,$C7*$B7,0) -> 0 | H7: =IF(($C7*$B7*H$2)<=$B7,$C7*$B7,0) -> 0 | I7: =IF(($C7*$B7*I$2)<=$B7,$C7*$B7,0) -> 0 | J7: =IF(($C7*$B7*J$2)<=$B7,$C7*$B7,0) -> 0 | K7: =IF(($C7*$B7*K$2)<=$B7,$C7*$B7,0) -> 0 | L7: =IF(($C7*$B7*L$2)<=$B7,$C7*$B7,0) -> 0 | M7: =IF(($C7*$B7*M$2)<=$B7,$C7*$B7,0) -> 0
A8: ΕΠΙΠΛΑ ΚΑΙ ΛΟΙΠΟΣ ΕΞΟΠΛΙΣΜΟΣ | B8: =ΚΟΣΤΟΣ!C13 -> 0 | D8: =$C8*$B8 -> 0 | E8: =IF(($C8*$B8*E$2)<=$B8,$C8*$B8,0) -> 0 | F8: =IF(($C8*$B8*F$2)<=$B8,$C8*$B8,0) -> 0 | G8: =IF(($C8*$B8*G$2)<=$B8,$C8*$B8,0) -> 0 | H8: =IF(($C8*$B8*H$2)<=$B8,$C8*$B8,0) -> 0 | I8: =IF(($C8*$B8*I$2)<=$B8,$C8*$B8,0) -> 0 | J8: =IF(($C8*$B8*J$2)<=$B8,$C8*$B8,0) -> 0 | K8: =IF(($C8*$B8*K$2)<=$B8,$C8*$B8,0) -> 0 | L8: =IF(($C8*$B8*L$2)<=$B8,$C8*$B8,0) -> 0 | M8: =IF(($C8*$B8*M$2)<=$B8,$C8*$B8,0) -> 0
A9: ΜΕΤΑΦΟΡΙΚΑ ΜΕΣΑ | B9: =ΚΟΣΤΟΣ!C16 -> 0 | D9: =$C9*$B9 -> 0 | E9: =IF(($C9*$B9*E$2)<=$B9,$C9*$B9,0) -> 0 | F9: =IF(($C9*$B9*F$2)<=$B9,$C9*$B9,0) -> 0 | G9: =IF(($C9*$B9*G$2)<=$B9,$C9*$B9,0) -> 0 | H9: =IF(($C9*$B9*H$2)<=$B9,$C9*$B9,0) -> 0 | I9: =IF(($C9*$B9*I$2)<=$B9,$C9*$B9,0) -> 0 | J9: =IF(($C9*$B9*J$2)<=$B9,$C9*$B9,0) -> 0 | K9: =IF(($C9*$B9*K$2)<=$B9,$C9*$B9,0) -> 0 | L9: =IF(($C9*$B9*L$2)<=$B9,$C9*$B9,0) -> 0 | M9: =IF(($C9*$B9*M$2)<=$B9,$C9*$B9,0) -> 0
A10: ΑΓΟΡΑ ΠΑΓΙΩΝ ΣΤΟΙΧΕΙΩΝ ΕΝΕΡΓΗΤΙΚΟΥ ΜΟΝΑΔΑΣ ΠΟΥ ΕΧΕΙ ΠΑΥΣΕΙ ΤΗ ΛΕΙΤΟΥΡΓΙΑ ΤΗΣ | B10: =ΚΟΣΤΟΣ!C17 -> 0 | D10: =$C10*$B10 -> 0 | E10: =IF(($C10*$B10*E$2)<=$B10,$C10*$B10,0) -> 0 | F10: =IF(($C10*$B10*F$2)<=$B10,$C10*$B10,0) -> 0 | G10: =IF(($C10*$B10*G$2)<=$B10,$C10*$B10,0) -> 0 | H10: =IF(($C10*$B10*H$2)<=$B10,$C10*$B10,0) -> 0 | I10: =IF(($C10*$B10*I$2)<=$B10,$C10*$B10,0) -> 0 | J10: =IF(($C10*$B10*J$2)<=$B10,$C10*$B10,0) -> 0 | K10: =IF(($C10*$B10*K$2)<=$B10,$C10*$B10,0) -> 0 | L10: =IF(($C10*$B10*L$2)<=$B10,$C10*$B10,0) -> 0 | M10: =IF(($C10*$B10*M$2)<=$B10,$C10*$B10,0) -> 0
A11: ΑΫΛΑ ΣΤΟΙΧΕΙΑ ΕΝΕΡΓΗΤΙΚΟΥ | B11: =ΚΟΣΤΟΣ!C18 -> 0 | D11: =$C11*$B11 -> 0 | E11: =IF(($C11*$B11*E$2)<=$B11,$C11*$B11,0) -> 0 | F11: =IF(($C11*$B11*F$2)<=$B11,$C11*$B11,0) -> 0 | G11: =IF(($C11*$B11*G$2)<=$B11,$C11*$B11,0) -> 0 | H11: =IF(($C11*$B11*H$2)<=$B11,$C11*$B11,0) -> 0 | I11: =IF(($C11*$B11*I$2)<=$B11,$C11*$B11,0) -> 0 | J11: =IF(($C11*$B11*J$2)<=$B11,$C11*$B11,0) -> 0 | K11: =IF(($C11*$B11*K$2)<=$B11,$C11*$B11,0) -> 0 | L11: =IF(($C11*$B11*L$2)<=$B11,$C11*$B11,0) -> 0 | M11: =IF(($C11*$B11*M$2)<=$B11,$C11*$B11,0) -> 0
A12: ΣΥΝΟΛΟ Α | B12: =B11+B10+B9+B8+B7+B6+B5+B4 -> 0 | D12: =SUM(D4:D11) -> 0 | E12: =SUM(E4:E11) -> 0 | F12: =SUM(F4:F11) -> 0 | G12: =SUM(G4:G11) -> 0 | H12: =SUM(H4:H11) -> 0 | I12: =SUM(I4:I11) -> 0 | J12: =SUM(J4:J11) -> 0 | K12: =SUM(K4:K11) -> 0 | ... M12: =SUM(M4:M11) -> 0
A14: Β. ΣΥΜΒΟΥΛΕΥΤΙΚΕΣ ΥΠΗΡΕΣΙΕΣ ΠΡΟΣ ΜΜΕ
A15: ΔΑΠΑΝΕΣ ΜΕΛΕΤΩΝ ΚΑΙ ΑΜΟΙΒΕΣ ΣΥΜΒΟΥΛΩΝ ΓΙΑ ΤΗΝ ΠΑΡΑΚΟΛΟΥΘΗΣΗ ΤΟΥ ΕΠΕΝΔΥΤΙΚΟΥ ΣΧΕΔΙΟΥ (μόνο για ΜΜΕ) | B15: =ΚΟΣΤΟΣ!C27 -> 0 | D15: =$C15*$B15 -> 0 | E15: =IF(($C15*$B15*E$2)<=$B15,$C15*$B15,0) -> 0 | F15: =IF(($C15*$B15*F$2)<=$B15,$C15*$B15,0) -> 0 | G15: =IF(($C15*$B15*G$2)<=$B15,$C15*$B15,0) -> 0 | H15: =IF(($C15*$B15*H$2)<=$B15,$C15*$B15,0) -> 0 | I15: =IF(($C15*$B15*I$2)<=$B15,$C15*$B15,0) -> 0 | J15: =IF(($C15*$B15*J$2)<=$B15,$C15*$B15,0) -> 0 | K15: =IF(($C15*$B15*K$2)<=$B15,$C15*$B15,0) -> 0 | L15: =IF(($C15*$B15*L$2)<=$B15,$C15*$B15,0) -> 0 | M15: =IF(($C15*$B15*M$2)<=$B15,$C15*$B15,0) -> 0
A16: ΔΑΠΑΝΕΣ ΓΙΑ ΕΠΑΓΓΕΛΜΑΤΙΚΗ ΚΑΤΑΡΤΙΣΗ | B16: =ΚΟΣΤΟΣ!C33 -> 0 | D16: =$C16*$B16 -> 0 | E16: =IF(($C16*$B16*E$2)<=$B16,$C16*$B16,0) -> 0 | F16: =IF(($C16*$B16*F$2)<=$B16,$C16*$B16,0) -> 0 | G16: =IF(($C16*$B16*G$2)<=$B16,$C16*$B16,0) -> 0 | H16: =IF(($C16*$B16*H$2)<=$B16,$C16*$B16,0) -> 0 | I16: =IF(($C16*$B16*I$2)<=$B16,$C16*$B16,0) -> 0 | J16: =IF(($C16*$B16*J$2)<=$B16,$C16*$B16,0) -> 0 | K16: =IF(($C16*$B16*K$2)<=$B16,$C16*$B16,0) -> 0 | L16: =IF(($C16*$B16*L$2)<=$B16,$C16*$B16,0) -> 0 | M16: =IF(($C16*$B16*M$2)<=$B16,$C16*$B16,0) -> 0
A17: ΔΑΠΑΝΕΣ ΓΙΑ ΣΥΜΜΕΤΟΧΗ ΜΜΕ ΣΕ ΕΜΠΟΡΙΚΕΣ ΕΚΘΕΣΕΙΣ | B17: =ΚΟΣΤΟΣ!C34 -> 0 | D17: =$C17*$B17 -> 0 | E17: =IF(($C17*$B17*E$2)<=$B17,$C17*$B17,0) -> 0 | F17: =IF(($C17*$B17*F$2)<=$B17,$C17*$B17,0) -> 0 | G17: =IF(($C17*$B17*G$2)<=$B17,$C17*$B17,0) -> 0 | H17: =IF(($C17*$B17*H$2)<=$B17,$C17*$B17,0) -> 0 | I17: =IF(($C17*$B17*I$2)<=$B17,$C17*$B17,0) -> 0 | J17: =IF(($C17*$B17*J$2)<=$B17,$C17*$B17,0) -> 0 | K17: =IF(($C17*$B17*K$2)<=$B17,$C17*$B17,0) -> 0 | L17: =IF(($C17*$B17*L$2)<=$B17,$C17*$B17,0) -> 0 | M17: =IF(($C17*$B17*M$2)<=$B17,$C17*$B17,0) -> 0
A18: ΣΥΝΟΛΟ Β | B18: =B15+B16+B17 -> 0 | D18: =SUM(D15:D17) -> 0 | E18: =SUM(E15:E17) -> 0 | F18: =SUM(F15:F17) -> 0 | G18: =SUM(G15:G17) -> 0 | H18: =SUM(H15:H17) -> 0 | I18: =SUM(I15:I17) -> 0 | J18: =SUM(J15:J17) -> 0 | K18: =SUM(K15:K17) -> 0 | ... M18: =SUM(M15:M17) -> 0
A21: ΣΥΝΟΛΟ ΑΠΟΣΒΕΣΕΩΝ ΠΑΓΙΩΝ ΕΠΕΝΔΥΤΙΚΟΥ ΣΧΕΔΙΟΥ | B21: =SUM(B18,B12) -> 0 | D21: =SUM(D18,D12) -> 0 | E21: =SUM(E18,E12) -> 0 | F21: =SUM(F18,F12) -> 0 | G21: =SUM(G18,G12) -> 0 | H21: =SUM(H18,H12) -> 0 | I21: =SUM(I18,I12) -> 0 | J21: =SUM(J18,J12) -> 0 | K21: =SUM(K18,K12) -> 0 | ... M21: =SUM(M18,M12) -> 0
A23: 2. ΑΠΟΣΒΕΣΕΙΣ ΥΦΙΣΤΑΜΕΝΩΝ ΠΑΓΙΩΝ | B23: ΑΞΙΑ ΚΤΗΣΗΣ | C23: ΑΝΑΠΟΣΒΕΣΤΗ ΑΞΙΑ | D23: 1ο Ετος | E23: 2ο Ετος | F23: 3ο Ετος | G23: 4ο Ετος | H23: 5ο Ετος | I23: 6ο Ετος | J23: 7ο Ετος | K23: 8ο Ετος | L23: 9ο Ετος | M23: 10ο Ετος
A24: ΚΤΙΡΙΑ - ΤΕΧΝΙΚΑ ΕΡΓΑ
A25: ΜΗΧΑΝΗΜΑΤΑ, ΤΕΧΝΙΚΕΣ ΕΓΚΑΤΑΣΤΑΣΕΙΣ & ΛΟΙΠΟΣ ΜΗΧΑΝΟΛΟΓΙΚΟΣ ΕΞΟΠΛΙΣΜΟΣ
A26: ……………………………………..
A27: ……………………………………..
A29: ΣΥΝΟΛΟ ΑΠΟΣΒΕΣΕΩΝ ΥΦΙΣΤΑΜΕΝΩΝ ΠΑΓΙΩΝ | D29: =SUM(D24:D28) -> 0 | E29: =SUM(E24:E28) -> 0 | F29: =SUM(F24:F28) -> 0 | G29: =SUM(G24:G28) -> 0 | H29: =SUM(H24:H28) -> 0 | I29: =SUM(I24:I28) -> 0 | J29: =SUM(J24:J28) -> 0 | K29: =SUM(K24:K28) -> 0 | ... M29: =SUM(M24:M28) -> 0
A31: ΓΕΝΙΚΟ ΣΥΝΟΛΟ ΑΠΟΣΒΕΣΕΩΝ | D31: =SUM(D29,D21) -> 0 | E31: =SUM(E29,E21) -> 0 | F31: =SUM(F29,F21) -> 0 | G31: =SUM(G29,G21) -> 0 | H31: =SUM(H29,H21) -> 0 | I31: =SUM(I29,I21) -> 0 | J31: =SUM(J29,J21) -> 0 | K31: =SUM(K29,K21) -> 0 | ... M31: =SUM(M29,M21) -> 0
A33: Τα στοιχεία που θα εισαχθούν στα παραπάνω πεδία και αφορούν αποσβέσεις του επενδυτικού σχεδίου θα πρέπει να είναι ταυτόσημα με αυτά που έχουν εισαχθεί και υποβληθεί στο Πληροφοριακό Σύστημα Αναπτυξιακών Νόμων (ΠΣ-Αν) στο Βήμα ΙΙΙ "Κόστος - Χρηματοδοτικό Σχήμα"

Sheet ΛΜΟΣ ΕΚΜΕΤ ΦΟΡΕΑ 
B1: 1ο ΕΤΟΣ | C1: 2ο ΕΤΟΣ | D1: 3ο ΕΤΟΣ | E1: 4ο ΕΤΟΣ | F1: 5ο ΕΤΟΣ | G1: 6ο ΕΤΟΣ | H1: 7ο ΕΤΟΣ | I1: 8ο ΕΤΟΣ | J1: 9ο ΕΤΟΣ | K1: 10ο ΕΤΟΣ
A2: ΣΥΝΟΛΟ ΚΥΚΛΟΥ ΕΡΓΑΣΙΩΝ | B2: =ΕΣΟΔΑ_ΚΟΣΤΟΣ_ΦΟΡΕΑ!B4 -> 0 | C2: =ΕΣΟΔΑ_ΚΟΣΤΟΣ_ΦΟΡΕΑ!C4 -> 0 | D2: =ΕΣΟΔΑ_ΚΟΣΤΟΣ_ΦΟΡΕΑ!D4 -> 0 | E2: =ΕΣΟΔΑ_ΚΟΣΤΟΣ_ΦΟΡΕΑ!E4 -> 0 | F2: =ΕΣΟΔΑ_ΚΟΣΤΟΣ_ΦΟΡΕΑ!F4 -> 0 | G2: =ΕΣΟΔΑ_ΚΟΣΤΟΣ_ΦΟΡΕΑ!G4 -> 0 | H2: =ΕΣΟΔΑ_ΚΟΣΤΟΣ_ΦΟΡΕΑ!H4 -> 0 | I2: =ΕΣΟΔΑ_ΚΟΣΤΟΣ_ΦΟΡΕΑ!I4 -> 0 | ... K2: =ΕΣΟΔΑ_ΚΟΣΤΟΣ_ΦΟΡΕΑ!K4 -> 0
A3: Μείον : Κόστος παραγωγής | B3: =ΕΣΟΔΑ_ΚΟΣΤΟΣ_ΦΟΡΕΑ!B7 -> 0 | C3: =ΕΣΟΔΑ_ΚΟΣΤΟΣ_ΦΟΡΕΑ!C7 -> 0 | D3: =ΕΣΟΔΑ_ΚΟΣΤΟΣ_ΦΟΡΕΑ!D7 -> 0 | E3: =ΕΣΟΔΑ_ΚΟΣΤΟΣ_ΦΟΡΕΑ!E7 -> 0 | F3: =ΕΣΟΔΑ_ΚΟΣΤΟΣ_ΦΟΡΕΑ!F7 -> 0 | G3: =ΕΣΟΔΑ_ΚΟΣΤΟΣ_ΦΟΡΕΑ!G7 -> 0 | H3: =ΕΣΟΔΑ_ΚΟΣΤΟΣ_ΦΟΡΕΑ!H7 -> 0 | I3: =ΕΣΟΔΑ_ΚΟΣΤΟΣ_ΦΟΡΕΑ!I7 -> 0 | ... K3: =ΕΣΟΔΑ_ΚΟΣΤΟΣ_ΦΟΡΕΑ!K7 -> 0
A4: ΜΙΚΤΟ ΚΕΡΔΟΣ ΕΚΜΕΤΑΛΛΕΥΣΗΣ | B4: =B2-B3 -> 0 | C4: =C2-C3 -> 0 | D4: =D2-D3 -> 0 | E4: =E2-E3 -> 0 | F4: =F2-F3 -> 0 | G4: =G2-G3 -> 0 | H4: =H2-H3 -> 0 | I4: =I2-I3 -> 0 | ... K4: =K2-K3 -> 0
A5: Μείον : Εξοδα Διοίκησης
A6: Μείον : Εξοδα Διάθεσης
A7: Μείον : Έξοδα Έρευνας & Ανάπτυξης
A8: ΛΕΙΤΟΥΡΓΙΚΟ ΑΠΟΤΕΛΕΣΜΑ | B8: =B4-SUM(B5:B7) -> 0 | C8: =C4-SUM(C5:C7) -> 0 | D8: =D4-SUM(D5:D7) -> 0 | E8: =E4-SUM(E5:E7) -> 0 | F8: =F4-SUM(F5:F7) -> 0 | G8: =G4-SUM(G5:G7) -> 0 | H8: =H4-SUM(H5:H7) -> 0 | I8: =I4-SUM(I5:I7) -> 0 | ... K8: =K4-SUM(K5:K7) -> 0
A9: Πλέον: Διάφορα έσοδα
A10: Μειον : Λοιπές δαπάνες
A11: ΑΠΟΤΕΛΕΣΜΑΤΑ ΠΡΟ ΑΠΟΣΒΕΣΕΩΝ, ΤΟΚΩΝ ΚΑΙ ΦΟΡΩΝ (συμπεριλαμβανομένων μισθωμάτων leasing) | B11: =B8+B9-B10 -> 0 | C11: =C8+C9-C10 -> 0 | D11: =D8+D9-D10 -> 0 | E11: =E8+E9-E10 -> 0 | F11: =F8+F9-F10 -> 0 | G11: =G8+G9-G10 -> 0 | H11: =H8+H9-H10 -> 0 | I11: =I8+I9-I10 -> 0 | ... K11: =K8+K9-K10 -> 0
A12: Μείον : τόκοι υφιστάμενων μακροπρόθεσμων δανείων | B12: ='ΥΦΙΣΤΑΜΕΝΕΣ ΔΑΝΕΙΑΚΕΣ ΥΠΟΧΡ'!I13 -> 0 | C12: ='ΥΦΙΣΤΑΜΕΝΕΣ ΔΑΝΕΙΑΚΕΣ ΥΠΟΧΡ'!J13 -> 0 | D12: ='ΥΦΙΣΤΑΜΕΝΕΣ ΔΑΝΕΙΑΚΕΣ ΥΠΟΧΡ'!K13 -> 0 | E12: ='ΥΦΙΣΤΑΜΕΝΕΣ ΔΑΝΕΙΑΚΕΣ ΥΠΟΧΡ'!L13 -> 0 | F12: ='ΥΦΙΣΤΑΜΕΝΕΣ ΔΑΝΕΙΑΚΕΣ ΥΠΟΧΡ'!M13 -> 0 | G12: ='ΥΦΙΣΤΑΜΕΝΕΣ ΔΑΝΕΙΑΚΕΣ ΥΠΟΧΡ'!N13 -> 0 | H12: ='ΥΦΙΣΤΑΜΕΝΕΣ ΔΑΝΕΙΑΚΕΣ ΥΠΟΧΡ'!O13 -> 0 | I12: ='ΥΦΙΣΤΑΜΕΝΕΣ ΔΑΝΕΙΑΚΕΣ ΥΠΟΧΡ'!P13 -> 0 | ... K12: ='ΥΦΙΣΤΑΜΕΝΕΣ ΔΑΝΕΙΑΚΕΣ ΥΠΟΧΡ'!R13 -> 0
A13: Μείον : τόκοι μακροπρόθεσμων δανείων επένδυσης | B13: ='ΜΑΚΡΟΠΡΟΘΕΣΜΟ ΔΑΝΕΙΟ '!B74 -> 0 | C13: ='ΜΑΚΡΟΠΡΟΘΕΣΜΟ ΔΑΝΕΙΟ '!C74 -> 0 | D13: ='ΜΑΚΡΟΠΡΟΘΕΣΜΟ ΔΑΝΕΙΟ '!D74 -> 0 | E13: ='ΜΑΚΡΟΠΡΟΘΕΣΜΟ ΔΑΝΕΙΟ '!E74 -> 0 | F13: ='ΜΑΚΡΟΠΡΟΘΕΣΜΟ ΔΑΝΕΙΟ '!F74 -> 0 | G13: ='ΜΑΚΡΟΠΡΟΘΕΣΜΟ ΔΑΝΕΙΟ '!G74 -> 0 | H13: ='ΜΑΚΡΟΠΡΟΘΕΣΜΟ ΔΑΝΕΙΟ '!H74 -> 0 | I13: ='ΜΑΚΡΟΠΡΟΘΕΣΜΟ ΔΑΝΕΙΟ '!I74 -> 0 | ... K13: ='ΜΑΚΡΟΠΡΟΘΕΣΜΟ ΔΑΝΕΙΟ '!K74 -> 0
A14: Μείον : τόκοι βραχυπροθέσμων δανείων κεφαλαίου κίνησης | B14: ='ΚΕΦΑΛΑΙΟ ΚΙΝΗΣΗΣ'!C29 -> 0 | C14: ='ΚΕΦΑΛΑΙΟ ΚΙΝΗΣΗΣ'!D29 -> 0 | D14: ='ΚΕΦΑΛΑΙΟ ΚΙΝΗΣΗΣ'!E29 -> 0 | E14: ='ΚΕΦΑΛΑΙΟ ΚΙΝΗΣΗΣ'!F29 -> 0 | F14: ='ΚΕΦΑΛΑΙΟ ΚΙΝΗΣΗΣ'!G29 -> 0 | G14: ='ΚΕΦΑΛΑΙΟ ΚΙΝΗΣΗΣ'!H29 -> 0 | H14: ='ΚΕΦΑΛΑΙΟ ΚΙΝΗΣΗΣ'!I29 -> 0 | I14: ='ΚΕΦΑΛΑΙΟ ΚΙΝΗΣΗΣ'!J29 -> 0 | ... K14: ='ΚΕΦΑΛΑΙΟ ΚΙΝΗΣΗΣ'!L29 -> 0
A15: Μείον : ετήσια μισθώματα leasing επενδυτικού σχεδίου | B15: ='LEASING ΕΠΕΝΔΥΤΙΚΟΥ ΣΧΕΔΙΟΥ'!D9 -> 0 | C15: ='LEASING ΕΠΕΝΔΥΤΙΚΟΥ ΣΧΕΔΙΟΥ'!E9 -> 0 | D15: ='LEASING ΕΠΕΝΔΥΤΙΚΟΥ ΣΧΕΔΙΟΥ'!F9 -> 0 | E15: ='LEASING ΕΠΕΝΔΥΤΙΚΟΥ ΣΧΕΔΙΟΥ'!G9 -> 0 | F15: ='LEASING ΕΠΕΝΔΥΤΙΚΟΥ ΣΧΕΔΙΟΥ'!H9 -> 0 | G15: ='LEASING ΕΠΕΝΔΥΤΙΚΟΥ ΣΧΕΔΙΟΥ'!I9 -> 0 | H15: ='LEASING ΕΠΕΝΔΥΤΙΚΟΥ ΣΧΕΔΙΟΥ'!J9 -> 0 | I15: ='LEASING ΕΠΕΝΔΥΤΙΚΟΥ ΣΧΕΔΙΟΥ'!K9 -> 0 | ... K15: ='LEASING ΕΠΕΝΔΥΤΙΚΟΥ ΣΧΕΔΙΟΥ'!M9 -> 0
A16: Μείον : ετήσια μισθώματα leasing άλλων επενδύσεων | B16: =SUM('ΥΦΙΣΤΑΜΕΝΕΣ ΔΑΝΕΙΑΚΕΣ ΥΠΟΧΡ'!I47:I49) -> 0 | C16: =SUM('ΥΦΙΣΤΑΜΕΝΕΣ ΔΑΝΕΙΑΚΕΣ ΥΠΟΧΡ'!J47:J49) -> 0 | D16: =SUM('ΥΦΙΣΤΑΜΕΝΕΣ ΔΑΝΕΙΑΚΕΣ ΥΠΟΧΡ'!K47:K49) -> 0 | E16: =SUM('ΥΦΙΣΤΑΜΕΝΕΣ ΔΑΝΕΙΑΚΕΣ ΥΠΟΧΡ'!L47:L49) -> 0 | F16: =SUM('ΥΦΙΣΤΑΜΕΝΕΣ ΔΑΝΕΙΑΚΕΣ ΥΠΟΧΡ'!M47:M49) -> 0 | G16: =SUM('ΥΦΙΣΤΑΜΕΝΕΣ ΔΑΝΕΙΑΚΕΣ ΥΠΟΧΡ'!N47:N49) -> 0 | H16: =SUM('ΥΦΙΣΤΑΜΕΝΕΣ ΔΑΝΕΙΑΚΕΣ ΥΠΟΧΡ'!O47:O49) -> 0 | I16: =SUM('ΥΦΙΣΤΑΜΕΝΕΣ ΔΑΝΕΙΑΚΕΣ ΥΠΟΧΡ'!P47:P49) -> 0 | ... K16: =SUM('ΥΦΙΣΤΑΜΕΝΕΣ ΔΑΝΕΙΑΚΕΣ ΥΠΟΧΡ'!R47:R49) -> 0
A17: Πλέον : επιδότηση leasing επενδυτικού σχεδίου | B17: ='LEASING ΕΠΕΝΔΥΤΙΚΟΥ ΣΧΕΔΙΟΥ'!D11 -> 0 | C17: ='LEASING ΕΠΕΝΔΥΤΙΚΟΥ ΣΧΕΔΙΟΥ'!E11 -> 0 | D17: ='LEASING ΕΠΕΝΔΥΤΙΚΟΥ ΣΧΕΔΙΟΥ'!F11 -> 0 | E17: ='LEASING ΕΠΕΝΔΥΤΙΚΟΥ ΣΧΕΔΙΟΥ'!G11 -> 0 | F17: ='LEASING ΕΠΕΝΔΥΤΙΚΟΥ ΣΧΕΔΙΟΥ'!H11 -> 0 | G17: ='LEASING ΕΠΕΝΔΥΤΙΚΟΥ ΣΧΕΔΙΟΥ'!I11 -> 0 | H17: ='LEASING ΕΠΕΝΔΥΤΙΚΟΥ ΣΧΕΔΙΟΥ'!J11 -> 0
A18: Πλέον : επιδότηση leasing άλλων επενδύσεων | B18: ='ΥΦΙΣΤΑΜΕΝΕΣ ΔΑΝΕΙΑΚΕΣ ΥΠΟΧΡ'!I50 -> 0 | C18: ='ΥΦΙΣΤΑΜΕΝΕΣ ΔΑΝΕΙΑΚΕΣ ΥΠΟΧΡ'!J50 -> 0 | D18: ='ΥΦΙΣΤΑΜΕΝΕΣ ΔΑΝΕΙΑΚΕΣ ΥΠΟΧΡ'!K50 -> 0 | E18: ='ΥΦΙΣΤΑΜΕΝΕΣ ΔΑΝΕΙΑΚΕΣ ΥΠΟΧΡ'!L50 -> 0 | F18: ='ΥΦΙΣΤΑΜΕΝΕΣ ΔΑΝΕΙΑΚΕΣ ΥΠΟΧΡ'!M50 -> 0 | G18: ='ΥΦΙΣΤΑΜΕΝΕΣ ΔΑΝΕΙΑΚΕΣ ΥΠΟΧΡ'!N50 -> 0 | H18: ='ΥΦΙΣΤΑΜΕΝΕΣ ΔΑΝΕΙΑΚΕΣ ΥΠΟΧΡ'!O50 -> 0 | I18: ='ΥΦΙΣΤΑΜΕΝΕΣ ΔΑΝΕΙΑΚΕΣ ΥΠΟΧΡ'!P50 -> 0 | ... K18: ='ΥΦΙΣΤΑΜΕΝΕΣ ΔΑΝΕΙΑΚΕΣ ΥΠΟΧΡ'!R50 -> 0
A19: ΑΠΟΤΕΛΕΣΜΑΤΑ ΠΡΟ ΑΠΟΣΒΕΣΕΩΝ & ΦΟΡΩΝ | B19: =B11-SUM(B12:B16)+SUM(B17:B18) -> 0 | C19: =C11-SUM(C12:C16)+SUM(C17:C18) -> 0 | D19: =D11-SUM(D12:D16)+SUM(D17:D18) -> 0 | E19: =E11-SUM(E12:E16)+SUM(E17:E18) -> 0 | F19: =F11-SUM(F12:F16)+SUM(F17:F18) -> 0 | G19: =G11-SUM(G12:G16)+SUM(G17:G18) -> 0 | H19: =H11-SUM(H12:H16)+SUM(H17:H18) -> 0 | I19: =I11-SUM(I12:I16)+SUM(I17:I18) -> 0 | ... K19: =K11-SUM(K12:K16)+SUM(K17:K18) -> 0
